BEGIN:VCALENDAR
VERSION:2.0
PRODID:-//ChamberMaster//Event Calendar 2.0//EN
METHOD:PUBLISH
X-PUBLISHED-TTL:P3D
REFRESH-INTERVAL:P3D
CALSCALE:GREGORIAN
BEGIN:VEVENT
DTSTART:20250823T160000Z
DTEND:20250824T020000Z
X-MICROSOFT-CDO-ALLDAYEVENT:FALSE
SUMMARY:Charlemont Reggae Festival
DESCRIPTION:The hills will be alive with sweet reggae music. Enjoy delicious food & drinks\, exotic craft market\, & kids activities. Live reggae performances from Ras Iba of the V.I.\, Ras Moon from Cape Verde. Clatta Bumboo\, Souls of Zion\, & Roosta Acoustic out of Jamaica. International recording artist Shanti Starr with the Afro-Reggae All Stars\, Nephertiti\, Gaia Roots & our local super stars The Equalites\, Root Fiyah\, & Mystic I. To keep things lively DJ Cancer & DJ Trends with be selecting the finest in roots reggae\, dance hall\, & soca! For more info check www.charlemontreggaefestival.com
X-ALT-DESC;FMTTYPE=text/html:The hills will be alive with sweet reggae music. Enjoy delicious food &amp\; drinks\, exotic craft market\, &amp\; kids activities. Live reggae performances from Ras Iba of the V.I.\, Ras Moon from Cape Verde. Clatta Bumboo\, Souls of Zion\, &amp\; Roosta Acoustic out of Jamaica. International recording artist Shanti Starr with the Afro-Reggae All Stars\, Nephertiti\, Gaia Roots &amp\; our local super stars The Equalites\, Root Fiyah\, &amp\; Mystic I. To keep things lively DJ Cancer &amp\; DJ Trends with be selecting the finest in roots reggae\, dance hall\, &amp\; soca! For more info check <a href="http://www.charlemontreggaefestival.com" target="_blank">www.charlemontreggaefestival.com</a>
LOCATION:Charlemont Fair Grounds Park Street\, Charlemont\, MA 01339
UID:e.2182.25076
SEQUENCE:3
DTSTAMP:20260424T013757Z
URL:https://chamber.franklincc.org/events/details/charlemont-reggae-festival-08-23-2025-25076
END:VEVENT

END:VCALENDAR
