BEGIN:VCALENDAR
VERSION:2.0
PRODID:-//ChamberMaster//Event Calendar 2.0//EN
METHOD:PUBLISH
X-PUBLISHED-TTL:P3D
REFRESH-INTERVAL:P3D
CALSCALE:GREGORIAN
BEGIN:VEVENT
DTSTART:20190724T230000Z
DTEND:20190725T010000Z
X-MICROSOFT-CDO-ALLDAYEVENT:FALSE
SUMMARY:Charlemont Forum
DESCRIPTION:"Farmer\, Banker\, Soldier\, Spy: Why They Care about Climate Change\," with Dr. Peter de Menocal\, dean of science at Columbia University.
X-ALT-DESC;FMTTYPE=text/html:&quot\;Farmer\, Banker\, Soldier\, Spy: Why They Care about Climate Change\,&quot\; with Dr. Peter de Menocal\, dean of science at Columbia University.
LOCATION:Charlemont Federated Church Main Street\, Charlemont
UID:e.2182.15195
SEQUENCE:3
DTSTAMP:20260419T212704Z
URL:https://chamber.franklincc.org/events/details/charlemont-forum-15195
END:VEVENT

END:VCALENDAR
