BEGIN:VCALENDAR
VERSION:2.0
PRODID:-//ChamberMaster//Event Calendar 2.0//EN
METHOD:PUBLISH
X-PUBLISHED-TTL:P3D
REFRESH-INTERVAL:P3D
CALSCALE:GREGORIAN
BEGIN:VEVENT
DTSTART:20250907T200000Z
DTEND:20250907T220000Z
X-MICROSOFT-CDO-ALLDAYEVENT:FALSE
SUMMARY:Chamber Music Madness at the 1794 Meetinghouse
DESCRIPTION:Violin & Banjo\n\nChris Devine   violin\, viola\, mandolin\, guitar\, flute\n\nMichael Nix   guitar\, mandolin\, banjar\, banjo\n\nChris and Michael are innovative multi-instrumentalists\, composers\, and arrangers who combine classical\, folk\, international\, jazz\, and bluegrass influences on MANY instruments (see above).\n\n\n\nImagine a Bach as a Celtic jig or a tango.  Add in banjo compositions based on 17th century transcriptions\, ragtime novelty pieces \, a bluegrass string-duel\, and a fiery jazz violin.  It's a wild musical ride as styles collide and are served up with energy\, style\, & wit!\n\n\n\nCello & Piano \n\nMark Fraser   cello\n\nMatthew Duncan   piano\n\nMark is a founding member of the internationally-acclaimed Adaskin String Trio and the director of Mohawk Trail Concerts in Charlemont.  Matthew is the director of the 1794 Meetinghouse.  They will perform works from the standard repertoire as well as original compositions.\n\n\n\nBassoon\, Clarinet\, & Piano\n\nBecky Eldredge   bassoon\n\nAnn Cenzano   piano\n\nMary Ellen Miller   clarinet\n\n\n\nBecky\, Mary Ellen\, and Ann met when in the 1970's when they were all students at Lowell State College.  Amazingly\, they all settled down in Western Mass.  Becky is a member of the Vermont Symphony Orchestra  and formerly a member of the Rhode Island Philharmonic.  Ann is the music director of the Congregational Church in Montague.  The trio will perform Mendelssohn's woodwind trio.
X-ALT-DESC;FMTTYPE=text/html:Violin &amp\; Banjo<br />\nChris Devine &mdash\; violin\, viola\, mandolin\, guitar\, flute<br />\nMichael Nix &mdash\; guitar\, mandolin\, banjar\, banjo<br />\nChris and Michael are innovative multi-instrumentalists\, composers\, and arrangers who combine classical\, folk\, international\, jazz\, and bluegrass influences on MANY instruments (see above).<br />\n<br />\nImagine a Bach as a Celtic jig or a tango.&nbsp\; Add in banjo compositions based on 17th century transcriptions\, ragtime novelty pieces \, a bluegrass string-duel\, and a fiery jazz violin.&nbsp\; It&rsquo\;s a wild musical ride as styles collide and are served up with energy\, style\, &amp\; wit!<br />\n<br />\nCello &amp\; Piano&nbsp\;<br />\nMark Fraser &mdash\; cello<br />\nMatthew Duncan &mdash\; piano<br />\nMark is a founding member of the internationally-acclaimed Adaskin String Trio and the director of Mohawk Trail Concerts in Charlemont.&nbsp\; Matthew is the director of the 1794 Meetinghouse.&nbsp\; They will perform works from the standard repertoire as well as original compositions.<br />\n<br />\nBassoon\, Clarinet\, &amp\; Piano<br />\nBecky Eldredge &mdash\; bassoon<br />\nAnn Cenzano &mdash\; piano<br />\nMary Ellen Miller &mdash\; clarinet<br />\n<br />\nBecky\, Mary Ellen\, and Ann met when in the 1970&rsquo\;s when they were all students at Lowell State College.&nbsp\; Amazingly\, they all settled down in Western Mass.&nbsp\; Becky is a member of the Vermont Symphony Orchestra&nbsp\; and formerly a member of the Rhode Island Philharmonic.&nbsp\; Ann is the music director of the Congregational Church in Montague.&nbsp\; The trio will perform Mendelssohn&rsquo\;s woodwind trio.<br />\n
LOCATION:1794 Meetinghouse 26 South Main Street New Salem 01355
UID:e.2182.24926
SEQUENCE:3
DTSTAMP:20260424T045622Z
URL:https://chamber.franklincc.org/events/details/chamber-music-madness-at-the-1794-meetinghouse-24926
END:VEVENT

END:VCALENDAR
