BEGIN:VCALENDAR
VERSION:2.0
PRODID:-//ChamberMaster//Event Calendar 2.0//EN
METHOD:PUBLISH
X-PUBLISHED-TTL:P3D
REFRESH-INTERVAL:P3D
CALSCALE:GREGORIAN
BEGIN:VEVENT
DTSTART:20210225T230000Z
DTEND:20210226T000000Z
X-MICROSOFT-CDO-ALLDAYEVENT:FALSE
SUMMARY:Central Mass Women's Caucus for Art - Virtual Art Show Series
DESCRIPTION:The Central Massachusetts Chapter of the Women?s Caucus for Art (WCA)\, in partnership with Tamar Russell Brown and Gallery Sitka\, have coordinated the exhibit which will be on view from January 15 through February 26\, 2021. The show includes paintings\, pastels\, watercolors\, and photographs. ?What is old is new again? is the theme of an online group exhibit entitled ?Under the Bed\,? in which the artists have selected their favorite work. Participating artists include C.M. Judge\, Ruth Nelson\, Sue Norton\, Helen Obermeyer Simmons\, Joanne Stowell\, Carolyn Todd\, Susan Wadsworth and Elsa Voelcker. The exhibition opens Friday\, January 15\, 2021\, and originates from Gallery Sitka in Shirley\, Mass.
X-ALT-DESC;FMTTYPE=text/html:The Central Massachusetts Chapter of the Women?s Caucus for Art (WCA)\, in partnership with Tamar Russell Brown and Gallery Sitka\, have coordinated the exhibit which will be on view from January 15 through February 26\, 2021. The show includes paintings\, pastels\, watercolors\, and photographs. ?What is old is new again? is the theme of an online group exhibit entitled ?Under the Bed\,? in which the artists have selected their favorite work. Participating artists include C.M. Judge\, Ruth Nelson\, Sue Norton\, Helen Obermeyer Simmons\, Joanne Stowell\, Carolyn Todd\, Susan Wadsworth and Elsa Voelcker. The exhibition opens Friday\, January 15\, 2021\, and originates from Gallery Sitka in Shirley\, Mass.
LOCATION:Online Event See Website URL for further information.
UID:e.2182.17783
SEQUENCE:3
DTSTAMP:20260425T114958Z
URL:https://chamber.franklincc.org/events/details/central-mass-women-s-caucus-for-art-virtual-art-show-series-02-25-2021-17783
END:VEVENT

END:VCALENDAR
