BEGIN:VCALENDAR
VERSION:2.0
PRODID:-//ChamberMaster//Event Calendar 2.0//EN
METHOD:PUBLISH
X-PUBLISHED-TTL:P3D
REFRESH-INTERVAL:P3D
CALSCALE:GREGORIAN
BEGIN:VEVENT
DTSTART:20250704T150000Z
DTEND:20250704T160000Z
X-MICROSOFT-CDO-ALLDAYEVENT:FALSE
SUMMARY:Center for New Americans 17th Annual Naturalization Ceremony
DESCRIPTION:Celebrate with Center for New Americans at our annual 17th naturalization ceremony on July 4th at 11:00 am at the Hampshire County Courthouse. The ceremony will take place outside on the Courthouse lawn\, weather permitting\, and the public is welcome. More info at cnam.org
X-ALT-DESC;FMTTYPE=text/html:Celebrate with Center for New Americans at our annual 17th naturalization ceremony on July 4th at 11:00 am at the Hampshire County Courthouse. The ceremony will take place outside on the Courthouse lawn\, weather permitting\, and the public is welcome. More info at <a href="http://cnam.org" target="_blank">cnam.org</a>
LOCATION:Hampshire County Courthouse
UID:e.2182.24811
SEQUENCE:3
DTSTAMP:20260424T001239Z
URL:https://chamber.franklincc.org/events/details/center-for-new-americans-17th-annual-naturalization-ceremony-24811
END:VEVENT

END:VCALENDAR
