BEGIN:VCALENDAR
VERSION:2.0
PRODID:-//ChamberMaster//Event Calendar 2.0//EN
METHOD:PUBLISH
X-PUBLISHED-TTL:P3D
REFRESH-INTERVAL:P3D
CALSCALE:GREGORIAN
BEGIN:VEVENT
DTSTART:20251008T140000Z
DTEND:20251008T170000Z
X-MICROSOFT-CDO-ALLDAYEVENT:FALSE
SUMMARY:Business Job & Internship Fair
DESCRIPTION:The Career Center at Westfield State University Invites you to the 2025 Business Job and Internship Fair on Wednesday\, October 8\, 2025\, 10am-1pm in the Scanlon Banquet Hall. If you're recruiting for interns and full-time candidates join us. Open to a limited number of employers Table with two chairs and sign will be provided Lunch will be provided for up to two recruiters in the Dining Commons (additional $25 per recruiter over 2) Dress with a polo or identifiable shirt with the company logo (more casual) The cost per organization is $250. You may purchase an ad for the program booklet (full-page $100\, 1/2 page $50)\; this will be sent out electronically to all business majors. Reach out to Rachel Gelina at rgelina@westfield.ma.edu to discuss your ad by Friday\, September 26\, 2025. ***We recommend adding your job(s) in Handshake prior to registering for the career fair so that candidates can view the complete position description and application instructions. Otherwise\, you will only be able to submit the position title for your vacancies in the career fair registration.
X-ALT-DESC;FMTTYPE=text/html:The Career Center at Westfield State University Invites you to the 2025 Business Job and Internship Fair on Wednesday\, October 8\, 2025\, 10am-1pm in the Scanlon Banquet Hall. If you&#39\;re recruiting for interns and full-time candidates join us. Open to a limited number of employers Table with two chairs and sign will be provided Lunch will be provided for up to two recruiters in the Dining Commons (additional $25 per recruiter over 2) Dress with a polo or identifiable shirt with the company logo (more casual) The cost per organization is $250. You may purchase an ad for the program booklet (full-page $100\, 1/2 page $50)\; this will be sent out electronically to all business majors. Reach out to Rachel Gelina at rgelina@westfield.ma.edu to discuss your ad by Friday\, September 26\, 2025. ***We recommend adding your job(s) in Handshake prior to registering for the career fair so that candidates can view the complete position description and application instructions. Otherwise\, you will only be able to submit the position title for your vacancies in the career fair registration.
LOCATION:Westfield State University - Scanlon Banquet Hall 577 Western Avenue Westfield\, MA 01086
UID:e.2182.24815
SEQUENCE:3
DTSTAMP:20260420T112747Z
URL:https://chamber.franklincc.org/events/details/business-job-internship-fair-24815
END:VEVENT

END:VCALENDAR
