BEGIN:VCALENDAR
VERSION:2.0
PRODID:-//ChamberMaster//Event Calendar 2.0//EN
METHOD:PUBLISH
X-PUBLISHED-TTL:P3D
REFRESH-INTERVAL:P3D
CALSCALE:GREGORIAN
BEGIN:VEVENT
DTSTART:20250526T130000Z
DTEND:20250526T220000Z
X-MICROSOFT-CDO-ALLDAYEVENT:FALSE
SUMMARY:Buckland Historical Society Museum
DESCRIPTION:Following the Memorial Day 8:00 a m Hat and Sock Parade and Ceremony\, the Buckland Historical Society museum will be open for touring its 3 floors of exhibits
X-ALT-DESC;FMTTYPE=text/html:<span style="font-family: &quot\;Open Sans&quot\;\, &quot\;Helvetica Neue&quot\;\, Helvetica\, Arial\, &quot\;Nimbus L&quot\;\, sans-serif\; font-size: 12px\;">Following the Memorial Day 8:00 a m Hat and Sock Parade and Ceremony\, the Buckland Historical Society museum will be open for touring its 3 floors of exhibits</span>
LOCATION:Buckland Historical Society Museum 12 Upper Street\, Buckland
UID:e.2182.24723
SEQUENCE:3
DTSTAMP:20260423T204623Z
URL:https://chamber.franklincc.org/events/details/buckland-historical-society-museum-24723
END:VEVENT

END:VCALENDAR
