BEGIN:VCALENDAR
VERSION:2.0
PRODID:-//ChamberMaster//Event Calendar 2.0//EN
METHOD:PUBLISH
X-PUBLISHED-TTL:P3D
REFRESH-INTERVAL:P3D
CALSCALE:GREGORIAN
BEGIN:VEVENT
DTSTART:20230513T130000Z
DTEND:20230513T160000Z
X-MICROSOFT-CDO-ALLDAYEVENT:FALSE
SUMMARY:Bridge of Flowers Plant Sale
DESCRIPTION:Plants\, many of which have been dug from the Bridge of Flowers or from local gardens\, will be available. Plants can be viewed prior to 9 a.m. but no sales are permitted until the bell rings promptly at 9 a.m. There will be geraniums and other annuals plus a variety of garden-related and craft/art vendors on hand.
X-ALT-DESC;FMTTYPE=text/html:Plants\, many of which have been dug from the Bridge of Flowers or from local gardens\, will be available. Plants can be viewed prior to 9 a.m. but no sales are permitted until the bell rings promptly at 9 a.m. There will be geraniums and other annuals plus a variety of garden-related and craft/art vendors on hand.
LOCATION:Trinity Church Baptist Lot\, Main Street\, Shelburne Falls
UID:e.2182.19728
SEQUENCE:3
DTSTAMP:20260425T014814Z
URL:https://chamber.franklincc.org/events/details/bridge-of-flowers-plant-sale-19728
END:VEVENT

END:VCALENDAR
