BEGIN:VCALENDAR
VERSION:2.0
PRODID:-//ChamberMaster//Event Calendar 2.0//EN
METHOD:PUBLISH
X-PUBLISHED-TTL:P3D
REFRESH-INTERVAL:P3D
CALSCALE:GREGORIAN
BEGIN:VEVENT
DTSTART:20250817T140000Z
DTEND:20250817T210000Z
X-MICROSOFT-CDO-ALLDAYEVENT:FALSE
SUMMARY:Bridge of Flowers Art Show & Sale
DESCRIPTION:The show features more than 100 works by 50 local and regional artists. Artwork on display Proceeds of the sale (50%) of artwork will support the Bridge of Flowers. Artwork on display will include painting\, photography\, printmaking\, fiber art and more.
X-ALT-DESC;FMTTYPE=text/html:The show features more than 100 works by 50 local and regional artists. Artwork on display Proceeds of the sale (50%) of artwork will support the Bridge of Flowers. Artwork on display will include painting\, photography\, printmaking\, fiber art and more.
LOCATION:Shelburne-Buckland Community Center'53 Main Street Shelburne Falls
UID:e.2182.25060
SEQUENCE:3
DTSTAMP:20260424T032536Z
URL:https://chamber.franklincc.org/events/details/bridge-of-flowers-art-show-sale-08-17-2025-25060
END:VEVENT

END:VCALENDAR
