BEGIN:VCALENDAR
VERSION:2.0
PRODID:-//ChamberMaster//Event Calendar 2.0//EN
METHOD:PUBLISH
X-PUBLISHED-TTL:P3D
REFRESH-INTERVAL:P3D
CALSCALE:GREGORIAN
BEGIN:VEVENT
DTSTART:20230416T190000Z
DTEND:20230416T203000Z
X-MICROSOFT-CDO-ALLDAYEVENT:FALSE
SUMMARY:Brick Church Music Series
DESCRIPTION:Woodwind Concert featuring The Frisson Winds Trio. The trio is made up of clarinetist Bixby Kennedy\, oboist Tom Gallant\, and bassoonist Remy Taghavi.\n\n\n\nThey are expected to play pieces by Florent Schmitt\, Mozart\, Jean Francaix\, Francis Poulenc and Mikhail Glinka\, as well as a piano piece by Frederic Chopin.\n\n\n\nA reception will be held in Deerfield Academy's Caswell Library following the performance.
X-ALT-DESC;FMTTYPE=text/html:Woodwind Concert featuring The Frisson Winds Trio. The trio is made up of clarinetist Bixby Kennedy\, oboist Tom Gallant\, and bassoonist Remy Taghavi.<br />\n<br />\nThey are expected to play pieces by Florent Schmitt\, Mozart\, Jean Francaix\, Francis Poulenc and Mikhail Glinka\, as well as a piano piece by Frederic Chopin.<br />\n<br />\nA reception will be held in Deerfield Academy&#39\;s Caswell Library following the performance.
LOCATION:The First Church of Deerfield
UID:e.2182.19523
SEQUENCE:3
DTSTAMP:20260425T002321Z
URL:https://chamber.franklincc.org/events/details/brick-church-music-series-19523
END:VEVENT

END:VCALENDAR
