BEGIN:VCALENDAR
VERSION:2.0
PRODID:-//ChamberMaster//Event Calendar 2.0//EN
METHOD:PUBLISH
X-PUBLISHED-TTL:P3D
REFRESH-INTERVAL:P3D
CALSCALE:GREGORIAN
BEGIN:VEVENT
DTSTART:20201106T143000Z
DTEND:20201106T213000Z
X-MICROSOFT-CDO-ALLDAYEVENT:FALSE
SUMMARY:Branches of Woodworking: Labor\, Learning & Livelihood\, 1760-1860
DESCRIPTION:This exhibition reveals the evidence that objects hold about their manufacture and the diverse scope of work practiced by different kinds of woodworkers. Artisans offered a variety of skills and services to satisfy their neighbors' demands for everything from high-style furniture to agricultural implements. Their trade demanded a broad range of tools and varying skills to transform wood in timber framing houses\, joinery\, cabinetmaking\, turning\, wheelwrighting\, coopering\, carpentry\, and repair work.
X-ALT-DESC;FMTTYPE=text/html:This exhibition reveals the evidence that objects hold about their manufacture and the diverse scope of work practiced by different kinds of woodworkers. Artisans offered a variety of skills and services to satisfy their neighbors&rsquo\; demands for everything from high-style furniture to agricultural implements. Their trade demanded a broad range of tools and varying skills to transform wood in timber framing houses\, joinery\, cabinetmaking\, turning\, wheelwrighting\, coopering\, carpentry\, and repair work.&nbsp\;
LOCATION:Historic Deerfield Old Main Street\, Deerfield
UID:e.2182.17694
SEQUENCE:3
DTSTAMP:20260424T024531Z
URL:https://chamber.franklincc.org/events/details/branches-of-woodworking-labor-learning-livelihood-1760-1860-17694
END:VEVENT

END:VCALENDAR
