BEGIN:VCALENDAR
VERSION:2.0
PRODID:-//ChamberMaster//Event Calendar 2.0//EN
METHOD:PUBLISH
X-PUBLISHED-TTL:P3D
REFRESH-INTERVAL:P3D
CALSCALE:GREGORIAN
BEGIN:VEVENT
DTSTART:20230210T223000Z
DTEND:20230211T010000Z
X-MICROSOFT-CDO-ALLDAYEVENT:FALSE
SUMMARY:Book to Movie Night: "Where the Crawdads Sing"
DESCRIPTION:Presented by the Greenfield Public Library and the Greenfield High School Library Club.\n\nFeaturing a screening of "Where the Crawdads Sing."\n\nFree pizza and popcorn will be available at 5:30 p.m. The movie will begin promptly at 6 p.m. followed by a brief discussion.\n\nProgram is sponsored by the Friends of the Greenfield Public Library.
X-ALT-DESC;FMTTYPE=text/html:Presented by the Greenfield Public Library and the Greenfield High School Library Club.<br />\nFeaturing a screening of &quot\;Where the Crawdads Sing.&quot\;<br />\nFree pizza and popcorn will be available at 5:30 p.m. The movie will begin promptly at 6 p.m. followed by a brief discussion.<br />\nProgram is sponsored by the Friends of the Greenfield Public Library.&nbsp\;
LOCATION:
UID:e.2182.19425
SEQUENCE:3
DTSTAMP:20260424T214935Z
URL:https://chamber.franklincc.org/events/details/book-to-movie-night-where-the-crawdads-sing-19425
END:VEVENT

END:VCALENDAR
