BEGIN:VCALENDAR
VERSION:2.0
PRODID:-//ChamberMaster//Event Calendar 2.0//EN
METHOD:PUBLISH
X-PUBLISHED-TTL:P3D
REFRESH-INTERVAL:P3D
CALSCALE:GREGORIAN
BEGIN:VEVENT
DTSTART:20231128T150000Z
DTEND:20231128T152500Z
X-MICROSOFT-CDO-ALLDAYEVENT:FALSE
SUMMARY:Book Babies with Ellen Lavoie
DESCRIPTION:Join Children's Librarian\, Ellen Lavoie\, in the new Children's Room for reading\, lap bouncing\, and singing on Tuesdays at 10:00 am. It's a great way to meet other babies\, new parents\, and caregivers!\n\n\n\nRecommended ages for this 30-minute program are birth-18 months.\n\n\n\nFor more information\, contact Children's Librarian Ellen Lavoie at ellen.lavoie@greenfield-ma.gov or call (413) 772-1544 x5104.\n\n\n\nThis program\, made possible through the generosity of the Friends of the Greenfield Public Library\, is free and open to the public.
X-ALT-DESC;FMTTYPE=text/html:Join Children&rsquo\;s Librarian\, Ellen Lavoie\, in the new Children&rsquo\;s Room for reading\, lap bouncing\, and singing on Tuesdays at 10:00 am. It&rsquo\;s a great way to meet other babies\, new parents\, and caregivers!<br />\n<br />\nRecommended ages for this 30-minute program are birth-18 months.<br />\n<br />\nFor more information\, contact Children&rsquo\;s Librarian Ellen Lavoie at ellen.lavoie@greenfield-ma.gov or call (413) 772-1544 x5104.<br />\n<br />\nThis program\, made possible through the generosity of the Friends of the Greenfield Public Library\, is free and open to the public.
LOCATION:
UID:e.2182.20284
SEQUENCE:3
DTSTAMP:20260424T224605Z
URL:https://chamber.franklincc.org/events/details/book-babies-with-ellen-lavoie-11-28-2023-20284
END:VEVENT

END:VCALENDAR
