BEGIN:VCALENDAR
VERSION:2.0
PRODID:-//ChamberMaster//Event Calendar 2.0//EN
METHOD:PUBLISH
X-PUBLISHED-TTL:P3D
REFRESH-INTERVAL:P3D
CALSCALE:GREGORIAN
BEGIN:VEVENT
DTSTART:20250113T233000Z
DTEND:20250114T020000Z
X-MICROSOFT-CDO-ALLDAYEVENT:FALSE
SUMMARY:Bollywood Film Series
DESCRIPTION:Greenfield Garden Cinemas\, in association with journalist and curator Vidhi Salla will be hosting Bollywood movie nights on the second Monday of every month. Every screening will be preceded by a brief cultural introduction by Salla. Salla is a celebrated cultural arts curator\, author and radio personality from Mumbai\, recently relocated to the New England area. Audiences will be invited for a post-screening Q&A. \n\nShree 420\n\nJanuary 13\n\n6:30pm\n\nA black-and-white classic from 1955\, Shree 420 was the highest grossing film of its year and remains an unparalleled classic to this day. Shree 420\, meaning Mister 420 is derived from the Indian Penal Code for fraud. It is the story of an orphan named Raj who comes to Bombay in search of work and get wrapped up in the world of wealthy gamblers and swindlers. It's a searing commentary on the distribution of wealth in human society and has beautiful songs that punctuate the narrative.
X-ALT-DESC;FMTTYPE=text/html:<span style="color: rgb(8\, 8\, 9)\; font-family: &quot\;Segoe UI Historic&quot\;\, &quot\;Segoe UI&quot\;\, Helvetica\, Arial\, sans-serif\; font-size: 15px\;">Greenfield Garden Cinemas\, in association with journalist and curator Vidhi Salla will be hosting Bollywood movie nights on the second Monday of every month. Every screening will be preceded by a brief cultural introduction by Salla. Salla is a celebrated cultural arts curator\, author and radio personality from Mumbai\, recently relocated to the New England area. Audiences will be invited for a post-screening Q&amp\;A.&nbsp\;<br />\nShree 420</span><br class="html-br" style="color: rgb(8\, 8\, 9)\; font-family: &quot\;Segoe UI Historic&quot\;\, &quot\;Segoe UI&quot\;\, Helvetica\, Arial\, sans-serif\; font-size: 15px\;" />\n<span style="color: rgb(8\, 8\, 9)\; font-family: &quot\;Segoe UI Historic&quot\;\, &quot\;Segoe UI&quot\;\, Helvetica\, Arial\, sans-serif\; font-size: 15px\;">January 13</span><br class="html-br" style="color: rgb(8\, 8\, 9)\; font-family: &quot\;Segoe UI Historic&quot\;\, &quot\;Segoe UI&quot\;\, Helvetica\, Arial\, sans-serif\; font-size: 15px\;" />\n<span style="color: rgb(8\, 8\, 9)\; font-family: &quot\;Segoe UI Historic&quot\;\, &quot\;Segoe UI&quot\;\, Helvetica\, Arial\, sans-serif\; font-size: 15px\;">6:30pm</span><br class="html-br" style="color: rgb(8\, 8\, 9)\; font-family: &quot\;Segoe UI Historic&quot\;\, &quot\;Segoe UI&quot\;\, Helvetica\, Arial\, sans-serif\; font-size: 15px\;" />\n<span style="color: rgb(8\, 8\, 9)\; font-family: &quot\;Segoe UI Historic&quot\;\, &quot\;Segoe UI&quot\;\, Helvetica\, Arial\, sans-serif\; font-size: 15px\;">A black-and-white classic from 1955\, Shree 420 was the highest grossing film of its year and remains an unparalleled classic to this day. Shree 420\, meaning Mister 420 is derived from the Indian Penal Code for fraud. It is the story of an orphan named Raj who comes to Bombay in search of work and get wrapped up in the world of wealthy gamblers and swindlers. It&#39\;s a searing commentary on the distribution of wealth in human society and has beautiful songs that punctuate the narrative.</span>
LOCATION:Greenfield Garden Cinemas 361 Main Street\, Greenfield
UID:e.2182.24076
SEQUENCE:3
DTSTAMP:20260424T001104Z
URL:https://chamber.franklincc.org/events/details/bollywood-film-series-24076
END:VEVENT

END:VCALENDAR
