BEGIN:VCALENDAR
VERSION:2.0
PRODID:-//ChamberMaster//Event Calendar 2.0//EN
METHOD:PUBLISH
X-PUBLISHED-TTL:P3D
REFRESH-INTERVAL:P3D
CALSCALE:GREGORIAN
BEGIN:VEVENT
DTSTART:20250717T203000Z
DTEND:20250717T223000Z
X-MICROSOFT-CDO-ALLDAYEVENT:FALSE
SUMMARY:Big Brothers Big Sisters Strikes Gold - annual Point 5K fundraiser
DESCRIPTION:an all-new pirate theme. This 546-yard dining experience highlights food and drinks from local businesses across Franklin County\, ranging from coffee shops\, to breweries\, and restaurants. The Point 5K differentiates itself from other 5K runs in the region\, by not being a run at all\, but instead a simple and fun outdoor dining experience.\nCalling all runners and non-runners for one of the area's most unique events! Thie Point 5K features about a 1/2 mile "course" where you stop along the way to grab amazing snacks and drinks. Then\, you hang out in the picnic area afterwards to enjoy all your goodies! Offerings include a range of items provided by local vendors and organizations.\n\nCome enjoy the amazing summer weather at the fairgrounds and empower potential in our community's youth.
X-ALT-DESC;FMTTYPE=text/html:<span style="color:black\;"><span style="font-family:aptos\,sans-serif\;"><span style="font-size:12.0pt\;">an all-new pirate theme. This 546-yard dining experience highlights food and drinks from local businesses across Franklin County\, ranging from coffee shops\, to breweries\, and restaurants. The Point 5K differentiates itself from other 5K runs in the region\, by not being a run at all\, but instead a simple and fun outdoor dining experience.</span></span></span>\n<p style="box-sizing: border-box\; color: rgb(104\, 118\, 128)\; font-family: &quot\;Proxima Nova&quot\;\, &quot\;Open Sans&quot\;\, &quot\;Gill Sans MT&quot\;\, &quot\;Gill Sans&quot\;\, Corbel\, Arial\, sans-serif\; font-size: 15px\; letter-spacing: 0.12px\;"><span style="box-sizing: border-box\; font-size: 16px\;">Calling all runners and non-runners for one of the area&#39\;s most unique events! Thie Point 5K features about a 1/2 mile &quot\;course&quot\; where you stop along the way to grab amazing snacks and drinks. Then\, you hang out in the picnic area afterwards to enjoy all your goodies!&nbsp\;Offerings include a range of items provided by local vendors and organizations.</span></p>\n\n<p style="box-sizing: border-box\; color: rgb(104\, 118\, 128)\; font-family: &quot\;Proxima Nova&quot\;\, &quot\;Open Sans&quot\;\, &quot\;Gill Sans MT&quot\;\, &quot\;Gill Sans&quot\;\, Corbel\, Arial\, sans-serif\; font-size: 15px\; letter-spacing: 0.12px\;"><span style="box-sizing: border-box\; font-size: 16px\;">Come enjoy the amazing summer weather at the fairgrounds and empower potential in our community&#39\;s youth.</span></p>\n<br />\n&nbsp\;
LOCATION:Franklin County Fairgrounds 89 Wisdom Way\, Greenfield
UID:e.2182.24905
SEQUENCE:3
DTSTAMP:20260424T001449Z
URL:https://chamber.franklincc.org/events/details/big-brothers-big-sisters-strikes-gold-annual-point-5k-fundraiser-24905
END:VEVENT

END:VCALENDAR
