BEGIN:VCALENDAR
VERSION:2.0
PRODID:-//ChamberMaster//Event Calendar 2.0//EN
METHOD:PUBLISH
X-PUBLISHED-TTL:P3D
REFRESH-INTERVAL:P3D
CALSCALE:GREGORIAN
BEGIN:VEVENT
DTSTART:20250222T220000Z
DTEND:20250223T000000Z
X-MICROSOFT-CDO-ALLDAYEVENT:FALSE
SUMMARY:Bernardston Kiwanis Chicken Pot Pies
DESCRIPTION:To benefit the Pack 3 Cub Scouts! Come enjoy a hearty meal for a great cause\, every little bit helps support our activities\, camp and cubs throughout the year. Cubs will be serving refreshments and will tell you all about scouting!\nAlso don't forget to bring a few extra dollars for the raffle!
X-ALT-DESC;FMTTYPE=text/html:T<span style="color: rgb(8\, 8\, 9)\; font-family: &quot\;Segoe UI Historic&quot\;\, &quot\;Segoe UI&quot\;\, Helvetica\, Arial\, sans-serif\; font-size: 15px\;">o benefit the Pack 3 Cub Scouts! Come enjoy a hearty meal for a great cause\, every little bit helps support our activities\, camp and cubs throughout the year. Cubs will be serving refreshments and will tell you all about scouting!</span>\n<div class="x11i5rnm xat24cr x1mh8g0r x1vvkbs xtlvy1s" style="margin: 0.5em 0px 0px\; overflow-wrap: break-word\; font-family: &quot\;Segoe UI Historic&quot\;\, &quot\;Segoe UI&quot\;\, Helvetica\, Arial\, sans-serif\; color: rgb(8\, 8\, 9)\; font-size: 15px\;">Also don&#39\;t forget to bring a few extra dollars for the raffle!</div>\n
LOCATION:United Church of Bernardston 58 Church Street\, Bernardston
UID:e.2182.24228
SEQUENCE:3
DTSTAMP:20260423T224431Z
URL:https://chamber.franklincc.org/events/details/bernardston-kiwanis-chicken-pot-pies-24228
END:VEVENT

END:VCALENDAR
