BEGIN:VCALENDAR
VERSION:2.0
PRODID:-//ChamberMaster//Event Calendar 2.0//EN
METHOD:PUBLISH
X-PUBLISHED-TTL:P3D
REFRESH-INTERVAL:P3D
CALSCALE:GREGORIAN
BEGIN:VEVENT
DTSTART:20170611T170000Z
DTEND:20170611T200000Z
X-MICROSOFT-CDO-ALLDAYEVENT:FALSE
SUMMARY:Benefit for Arredondo Family Foundation - Second Annual BBQ
DESCRIPTION:Diemand Farm invites you to join us for food\, fun\, guest speakers\, music and raffles\, to benefit veteran's families through the Arredondo Family Foundation. The proceeds will go toward supporting families who have lost a loved one.  Please join us from 1 to 4pm for food\, fun\, guest speakers\, music and raffles. The meal includes a combo of BBQ chicken\, baked potatoes\, BBQ turkey "ribs"\, black bean quinoa salad and more.  Suggested donation is $30 for adults\, $10 for children 2-10yrs. A family package for $60 (2 adults and 2 children under 10) is also available.         \n\nThe mission of the Arredondo Family Foundation is to empower military families in the prevention of military related suicides and to provide support through education financial relief and support services. The Foundation is a non-profit 501(c) organization. Carlos and Melida are Gold Star parents. Their son Alex was a US Marine in Iraq. They lost their younger son Brian to suicide.
X-ALT-DESC;FMTTYPE=text/html:<p><span style="font-size: 14px\;"><span style="font-family: arial\;">Diemand Farm invites you to join us for food\, fun\, guest speakers\, music and raffles\, to benefit veteran&#39\;s families through the Arredondo Family Foundation. The proceeds will go toward supporting families who have lost a loved one.&nbsp\; Please join us from 1 to 4pm for food\, fun\, guest speakers\, music and raffles.&nbsp\;The meal includes a combo of BBQ chicken\, baked potatoes\, BBQ turkey &ldquo\;ribs&rdquo\;\, black bean quinoa salad and more.&nbsp\; Suggested donation is $30 for adults\, $10 for children 2-10yrs. A family package for $60 (2 adults and 2 children under 10) is also available.&nbsp\;&nbsp\;&nbsp\;&nbsp\;&nbsp\;&nbsp\;&nbsp\;&nbsp\;&nbsp\;<br />\nThe mission of the Arredondo Family Foundation is to empower military families in the prevention of military related suicides and to provide support through education financial relief and support services.&nbsp\;The Foundation is a non-profit 501(c) organization. Carlos and Melida are Gold Star parents.&nbsp\;Their son Alex was a US Marine in Iraq. They lost their younger son Brian to suicide.&nbsp\; </span></span></p>\n
LOCATION:Diemand Farm located 126 Mormon Hollow Rd. in Wendell\, Ma 01349
UID:e.2182.8340
SEQUENCE:3
DTSTAMP:20260421T154015Z
URL:https://chamber.franklincc.org/events/details/benefit-for-arredondo-family-foundation-second-annual-bbq-8340
END:VEVENT

END:VCALENDAR
