BEGIN:VCALENDAR
VERSION:2.0
PRODID:-//ChamberMaster//Event Calendar 2.0//EN
METHOD:PUBLISH
X-PUBLISHED-TTL:P3D
REFRESH-INTERVAL:P3D
CALSCALE:GREGORIAN
BEGIN:VEVENT
DTSTART:20250927T193000Z
DTEND:20250927T233000Z
X-MICROSOFT-CDO-ALLDAYEVENT:FALSE
SUMMARY:Benefit Concert with Wildcat O'Halloran
DESCRIPTION:Let's light up the lawn! Wildcat O'Halloran Band at Jericho Fri 9/27   4 PM | Holyoke Games for kids * Cash bar * Bring chairs/blankets/ picnic $20 suggested--no one turned away. Come for the blues\, stay for the community. Visit https://jerichobeca.org/index.php/fall-concert-september-27 for information or to donate online!
X-ALT-DESC;FMTTYPE=text/html:Let&#39\;s light up the lawn!&nbsp\;Wildcat O&#39\;Halloran Band at Jericho Fri 9/27 &middot\; 4 PM | Holyoke Games for kids * Cash bar * Bring chairs/blankets/ picnic $20 suggested--no one turned away. Come for the blues\, stay for the community. Visit&nbsp\;https://jerichobeca.org/index.php/fall-concert-september-27&nbsp\;for information or to donate online!
LOCATION:Jericho \, 537 Northampton St\, Holyoke\, MA 01040
UID:e.2182.25159
SEQUENCE:3
DTSTAMP:20260424T031940Z
URL:https://chamber.franklincc.org/events/details/benefit-concert-with-wildcat-o-halloran-25159
END:VEVENT

END:VCALENDAR
