BEGIN:VCALENDAR
VERSION:2.0
PRODID:-//ChamberMaster//Event Calendar 2.0//EN
METHOD:PUBLISH
X-PUBLISHED-TTL:P3D
REFRESH-INTERVAL:P3D
CALSCALE:GREGORIAN
BEGIN:VEVENT
DTSTART:20250207T130000Z
DTEND:20250218T010000Z
X-MICROSOFT-CDO-ALLDAYEVENT:FALSE
SUMMARY:"Be your own Valentine" Restorative Yoga Special- A treat for Thyself\, couples\, friends & family
DESCRIPTION:"Be your own Valentine" Restorative Yoga Special is an unforgettable self-care experience. Participants will receive supportive and pleasant restorative yoga options\, delightful aromatherapy\, a very sweet sensory meditation with local chocolate\, a guided candlelight visualization for harnessing light\, and a heartfelt Valentine's message inspired by Radleigh Valentine. This warm and lush self-embrace is indeed a treat! It is highly recommended for individuals and couples/does who are interested in a unique\, meaningful\, and fulfilling Valentine's opportunity. All will leave feeling sprinkled with magic. What's not to love?!
X-ALT-DESC;FMTTYPE=text/html:&quot\;Be your own Valentine&quot\; Restorative Yoga Special is an unforgettable self-care experience. Participants will receive supportive and pleasant restorative yoga options\, delightful aromatherapy\, a very sweet sensory meditation with local chocolate\, a guided candlelight visualization for harnessing light\, and a heartfelt Valentine&#39\;s message inspired by Radleigh Valentine. This warm and lush self-embrace is indeed a treat! It is highly recommended for individuals and couples/does who are interested in a unique\, meaningful\, and fulfilling Valentine&#39\;s opportunity. All will leave feeling sprinkled with magic. What&#39\;s not to love?!
LOCATION:Mill Village Professional Building 235 Greenfield Road\, South Deerfield\, MA\, 01373
UID:e.2182.24211
SEQUENCE:3
DTSTAMP:20260424T001743Z
URL:https://chamber.franklincc.org/events/details/be-your-own-valentine-restorative-yoga-special-a-treat-for-thyself-couples-friends-family-24211
END:VEVENT

END:VCALENDAR
