BEGIN:VCALENDAR
VERSION:2.0
PRODID:-//ChamberMaster//Event Calendar 2.0//EN
METHOD:PUBLISH
X-PUBLISHED-TTL:P3D
REFRESH-INTERVAL:P3D
CALSCALE:GREGORIAN
BEGIN:VEVENT
DTSTART:20250802T233000Z
DTEND:20250803T010000Z
X-MICROSOFT-CDO-ALLDAYEVENT:FALSE
SUMMARY:Barrett Anderson Band at 1794 Meetinghouse
DESCRIPTION:Blues guitarist and singer Barrett Anderson is a 25+ year veteran of the New England Blues scene and\, in recent years\, has become a fixture of the national and international Blues communities.\n\nAnderson has recorded three full length albums\, including Hypnoboogie\, which spent three weeks on the Billboard Blues Album Top 15 Chart\, peaking at #6. In 2013 he won a Boston Music Award\, Blues Artist of the Year. He currently performs with The Barrett Anderson Band and with the internationally acclaimed Anthony Geraci & The Boston Blues All-Stars\, with whom he was nominated for Band of the Year at the 2023 Blues Music Awards\, by the Blues Foundation.\n\n\n	Barrett Anderson   guitar\, vocals\n	Paul Loranger   bass\, vocals\n	Keith Hollis   organ\, vocals\n	David Moore   drums\, vocals
X-ALT-DESC;FMTTYPE=text/html:<p style="box-sizing: inherit\; font-size: 1.3em\; line-height: 33.28px\; margin-bottom: 20px\; color: rgb(0\, 0\, 0)\; font-family: futura-pt\, sans-serif\;">Blues guitarist and singer Barrett Anderson is a 25+ year veteran of the New England Blues scene and\, in recent years\, has become a fixture of the national and international Blues communities.</p>\n\n<p style="box-sizing: inherit\; font-size: 1.3em\; line-height: 33.28px\; margin-bottom: 20px\; color: rgb(0\, 0\, 0)\; font-family: futura-pt\, sans-serif\;">Anderson has recorded three full length albums\, including&nbsp\;<em style="box-sizing: inherit\;">Hypnoboogie</em>\, which spent three weeks on the Billboard Blues Album Top 15 Chart\, peaking at #6. In 2013 he won a Boston Music Award\, Blues Artist of the Year. He currently performs with The Barrett Anderson Band and with the internationally acclaimed Anthony Geraci &amp\; The Boston Blues All-Stars\, with whom he was nominated for Band of the Year at the 2023 Blues Music Awards\, by the Blues Foundation.</p>\n\n<ul style="box-sizing: border-box\; font-size: 1.3em\; line-height: 33.28px\; margin: 0px 0px 20px\; list-style-position: initial\; list-style-image: initial\; color: rgb(0\, 0\, 0)\; font-family: futura-pt\, sans-serif\;">\n	<li style="box-sizing: inherit\;"><span style="box-sizing: inherit\; font-weight: bolder\;">Barrett Anderson &mdash\; guitar\, vocals</span></li>\n	<li style="box-sizing: inherit\;"><span style="box-sizing: inherit\; font-weight: bolder\;">Paul Loranger &mdash\; bass\, vocals</span></li>\n	<li style="box-sizing: inherit\;"><span style="box-sizing: inherit\; font-weight: bolder\;">Keith Hollis &mdash\; organ\, vocals</span></li>\n	<li style="box-sizing: inherit\;"><span style="box-sizing: inherit\; font-weight: bolder\;">David Moore &mdash\; drums\, vocals</span></li>\n</ul>\n
LOCATION:1794 Meetinghouse 26 South Main Street New Salem 01355
UID:e.2182.24969
SEQUENCE:3
DTSTAMP:20260424T013758Z
URL:https://chamber.franklincc.org/events/details/barrett-anderson-band-at-1794-meetinghouse-24969
END:VEVENT

END:VCALENDAR
