BEGIN:VCALENDAR
VERSION:2.0
PRODID:-//ChamberMaster//Event Calendar 2.0//EN
METHOD:PUBLISH
X-PUBLISHED-TTL:P3D
REFRESH-INTERVAL:P3D
CALSCALE:GREGORIAN
BEGIN:VEVENT
DTSTART:20250814T133000Z
DTEND:20250814T203000Z
X-MICROSOFT-CDO-ALLDAYEVENT:FALSE
SUMMARY:August Adventures - Free Admission Day at Historic Deerfield
DESCRIPTION:Free admission for all on August 14th!\n\nIn partnership with the Highland Street Foundation\, Historic Deerfield will offer no-cost admission to the museum on Thursday\, August 14th as part of the August Adventures program! Visit the museum's historic houses and Flynt Center\, get hands-on with make-and-take arts and crafts activities\, and more!\n\nAdvance tickets are not required.
X-ALT-DESC;FMTTYPE=text/html:<div class="xdj266r x14z9mp xat24cr x1lziwak x1vvkbs" style="margin: 0px\; overflow-wrap: break-word\; font-family: &quot\;Segoe UI Historic&quot\;\, &quot\;Segoe UI&quot\;\, Helvetica\, Arial\, sans-serif\; color: rgb(8\, 8\, 9)\; font-size: 15px\;">Free admission for all on August 14th!</div>\n\n<div class="x14z9mp xat24cr x1lziwak x1vvkbs xtlvy1s" style="margin: 0.5em 0px 0px\; overflow-wrap: break-word\; font-family: &quot\;Segoe UI Historic&quot\;\, &quot\;Segoe UI&quot\;\, Helvetica\, Arial\, sans-serif\; color: rgb(8\, 8\, 9)\; font-size: 15px\;">In partnership with the Highland Street Foundation\, Historic Deerfield will offer no-cost admission to the museum on Thursday\, August 14th as part of the August Adventures program! Visit the museum&rsquo\;s historic houses and Flynt Center\, get hands-on with make-and-take arts and crafts activities\, and more!</div>\n\n<div class="x14z9mp xat24cr x1lziwak x1vvkbs xtlvy1s" style="margin: 0.5em 0px 0px\; overflow-wrap: break-word\; font-family: &quot\;Segoe UI Historic&quot\;\, &quot\;Segoe UI&quot\;\, Helvetica\, Arial\, sans-serif\; color: rgb(8\, 8\, 9)\; font-size: 15px\;">Advance tickets are not required.&nbsp\;</div>\n
LOCATION:Historic Deerfield 80 Old Main Street\, Deerfield
UID:e.2182.25089
SEQUENCE:3
DTSTAMP:20260424T031608Z
URL:https://chamber.franklincc.org/events/details/august-adventures-free-admission-day-at-historic-deerfield-25089
END:VEVENT

END:VCALENDAR
