BEGIN:VCALENDAR
VERSION:2.0
PRODID:-//ChamberMaster//Event Calendar 2.0//EN
METHOD:PUBLISH
X-PUBLISHED-TTL:P3D
REFRESH-INTERVAL:P3D
CALSCALE:GREGORIAN
BEGIN:VEVENT
DTSTART:20230809T133000Z
DTEND:20230809T203000Z
X-MICROSOFT-CDO-ALLDAYEVENT:FALSE
SUMMARY:August Adventures free admission day
DESCRIPTION:This is a day when patrons may enjoy free admission to the museum and participate in a variety of activities including demonstrations\, hands-on crafts\, and games. August Adventures is made possible through Highland Street Foundation who provides access and opportunities to new and old partners highlighting the geographical and cultural diversity of the Massachusetts arts and culture community.\n\n \n\nA full calendar of events can be found at www.historic-deerfield.org/events.
X-ALT-DESC;FMTTYPE=text/html:<span style="color:#1F1F1F\;"><span style="font-family:tahoma\,sans-serif\;">This is a day when patrons may enjoy free admission to the museum and participate in a variety of activities including demonstrations\, hands-on crafts\, and games. August Adventures is made possible through&nbsp\;</span></span><span style="font-family:verdana\,sans-serif\;"><span style="font-size:12.0pt\;"><a href="https://www.highlandstreet.org/programs/community-events/august-adventures" style="text-decoration-line:none\;" target="_blank"><span style="color:#4472C4\;"><span style="font-family:tahoma\,sans-serif\;"><span style="font-size:11.0pt\;">Highland Street Foundation</span></span></span></a></span></span><span style="color:#1F1F1F\;"><span style="font-family:tahoma\,sans-serif\;">&nbsp\;who</span></span><span style="color:black\;"><span style="font-family:tahoma\,sans-serif\;">&nbsp\;provides access and opportunities to new and old partners highlighting the geographical and cultural diversity of the Massachusetts arts and culture community.</span></span><br />\n&nbsp\;<br />\n<span style="color:#202124\;"><span style="font-family:tahoma\,sans-serif\;">A full calendar of events can be found at&nbsp\;</span></span><span style="font-family:verdana\,sans-serif\;"><span style="font-size:12.0pt\;"><a href="http://www.historic-deerfield.org/events" style="text-decoration-line:none\;" target="_blank"><span style="color:#4472C4\;"><span style="font-family:tahoma\,sans-serif\;"><span style="font-size:11.0pt\;">www.historic-deerfield.org/events</span></span></span></a></span></span><span style="color:black\;"><span style="font-family:tahoma\,sans-serif\;">.</span></span><br />\n&nbsp\;
LOCATION:Historic Deerfield Old Main Street\, Deerfield
UID:e.2182.20244
SEQUENCE:3
DTSTAMP:20260425T023820Z
URL:https://chamber.franklincc.org/events/details/august-adventures-free-admission-day-20244
END:VEVENT

END:VCALENDAR
