BEGIN:VCALENDAR
VERSION:2.0
PRODID:-//ChamberMaster//Event Calendar 2.0//EN
METHOD:PUBLISH
X-PUBLISHED-TTL:P3D
REFRESH-INTERVAL:P3D
CALSCALE:GREGORIAN
BEGIN:VEVENT
DTSTART:20230923T213000Z
DTEND:20230924T013000Z
X-MICROSOFT-CDO-ALLDAYEVENT:FALSE
SUMMARY:Ashfield Film Fest
DESCRIPTION:Two nights of film featuring creativity and community. The festival salutes Cecil B. DeMille\, who was born in Ashfield. \n\nFriday will feature the documentary by Eduardo Montes-Bradley entitled Alice: at Home with Alice Parker. Focusing on the life and work of world renowned conductor\, composer and teacher Alice Parker of Hawley. \n\nThe second film is about Vermont poet Ruth Stone\, who nurtured a community of writers\, and is entitled Ruth Stone's Vast Library of the Female Mind. \n\nSaturday night features a competition of "five minutes or less" short films\, all with connections to the hilltowns of Western Mass\, for a grand prize of $200.00.\n\nThe Ashfield Community Band will play beside the Town Hall beginnings at 5:30 p.m. and the Town Hall doors open at 6:30 p.m. Films begin at 7:00 p.m.
X-ALT-DESC;FMTTYPE=text/html:Two nights of film featuring creativity and community. The festival salutes Cecil B. DeMille\, who was born in Ashfield.&nbsp\;<br />\nFriday will feature the documentary by Eduardo Montes-Bradley entitled <strong>Alice: at Home with Alice Parker.</strong>&nbsp\;Focusing on the life and work of world renowned conductor\, composer and teacher Alice Parker of Hawley.&nbsp\;<br />\nThe second film is about Vermont poet Ruth Stone\, who nurtured a community of writers\, and is entitled&nbsp\;<strong>Ruth Stone&#39\;s Vast Library of the Female Mind.&nbsp\;</strong><br />\nSaturday night features a competition of &quot\;five minutes or less&quot\; short films\, all with connections to the hilltowns of Western Mass\, for a grand prize of $200.00.<br />\nThe Ashfield Community Band will play beside the Town Hall beginnings at 5:30 p.m. and the Town Hall doors open at 6:30 p.m. Films begin at 7:00 p.m.
LOCATION:Ashfield Town Hall Main Street\, Ashfield
UID:e.2182.20364
SEQUENCE:3
DTSTAMP:20260425T022727Z
URL:https://chamber.franklincc.org/events/details/ashfield-film-fest-20364
END:VEVENT

END:VCALENDAR
