BEGIN:VCALENDAR
VERSION:2.0
PRODID:-//ChamberMaster//Event Calendar 2.0//EN
METHOD:PUBLISH
X-PUBLISHED-TTL:P3D
REFRESH-INTERVAL:P3D
CALSCALE:GREGORIAN
BEGIN:VEVENT
DTSTART:20231021T130000Z
DTEND:20231021T170000Z
X-MICROSOFT-CDO-ALLDAYEVENT:FALSE
SUMMARY:Ashfield Farmers Market
DESCRIPTION:Featuring a variety of produce\, flowers\, vendors\, etc.\n\n\n\nRain or shine.
X-ALT-DESC;FMTTYPE=text/html:Featuring a variety of produce\, flowers\, vendors\, etc.<br />\n<br />\nRain or shine.
LOCATION:Ashfield Town Green 420Main Street\, Ashfield MA 01330
UID:e.2182.20316
SEQUENCE:3
DTSTAMP:20260424T235234Z
URL:https://chamber.franklincc.org/events/details/ashfield-farmers-market-10-21-2023-20316
END:VEVENT

END:VCALENDAR
