BEGIN:VCALENDAR
VERSION:2.0
PRODID:-//ChamberMaster//Event Calendar 2.0//EN
METHOD:PUBLISH
X-PUBLISHED-TTL:P3D
REFRESH-INTERVAL:P3D
CALSCALE:GREGORIAN
BEGIN:VEVENT
DTSTART:20230221T150000Z
DTEND:20230222T230000Z
X-MICROSOFT-CDO-ALLDAYEVENT:FALSE
SUMMARY:Art Party! For February School Vacation week!
DESCRIPTION:It's an Art Party happening at Yankee Candle Village for February School Vacation!\n\nWe'll be kicking off the first ever art collaboration by inviting guests to help bring a wall-sized Yankee Candle Village inspired mural to life with color and creativity!\n\nWe'll have visits from Ed the Magician on Monday and Friday (1:00 & 3:00)\, Tom Ricardi and his Birds of Prey on Wednesday (1:00)\, and Santa every day!\n\nOther fun includes cookie decorating\, games\, a scavenger hunt and tons of raffle prizes including a Jumbo "Tucker" bear plush!\n\nEach day will be a different color theme. Wear that day's color and you can enter for a chance to win a Wax Works package for 4! One winner EVERY DAY!\n\nTheme colors by day:\n\nSaturday = Red\n\nSunday = Orange\n\nMonday = Yellow\n\nTuesday = Green\n\nWednesday = Blue\n\nThursday = Purple\n\nFriday = Pink
X-ALT-DESC;FMTTYPE=text/html:It&rsquo\;s an Art Party happening at Yankee Candle Village for February School Vacation!<br />\nWe&rsquo\;ll be kicking off the first ever art collaboration by inviting guests to help bring a wall-sized Yankee Candle Village inspired mural to life with color and creativity!<br />\nWe&#39\;ll have visits from Ed the Magician on Monday and Friday (1:00 &amp\; 3:00)\, Tom Ricardi and his Birds of Prey on Wednesday (1:00)\, and Santa every day!<br />\nOther fun includes cookie decorating\, games\, a scavenger hunt and tons of raffle prizes including a Jumbo &quot\;Tucker&quot\; bear plush!<br />\nEach day will be a different color theme. Wear that day&#39\;s color and you can enter for a chance to win a Wax Works package for 4! One winner EVERY DAY!<br />\nTheme colors by day:<br />\nSaturday = Red<br />\nSunday = Orange<br />\nMonday = Yellow<br />\nTuesday = Green<br />\nWednesday = Blue<br />\nThursday = Purple<br />\nFriday = Pink
LOCATION:Yankee Candle Village 25 Greenfield Road\, South Deerfield
UID:e.2182.19436
SEQUENCE:3
DTSTAMP:20260424T202942Z
URL:https://chamber.franklincc.org/events/details/art-party-for-february-school-vacation-week-02-21-2023-19436
END:VEVENT

END:VCALENDAR
