BEGIN:VCALENDAR
VERSION:2.0
PRODID:-//ChamberMaster//Event Calendar 2.0//EN
METHOD:PUBLISH
X-PUBLISHED-TTL:P3D
REFRESH-INTERVAL:P3D
CALSCALE:GREGORIAN
BEGIN:VEVENT
DTSTART:20230401T230000Z
DTEND:20230402T020000Z
X-MICROSOFT-CDO-ALLDAYEVENT:FALSE
SUMMARY:April Food's Day: Join us at the Shea Theater for Jimmy Tingle’s Humor For Humanity!
DESCRIPTION:The Shea Presents: Jimmy Tingle Live! HUMOR FOR HUMANITY.\n\nA benefit for Franklin County Community Meals Program (FCCMP).\n\n\n\nFeaturing -  Comedian Jimmy Tingle in a one-man show.\n\n\n\nProgram begins at 8pm.\n\n\n\nThe Shea Theater is pleased to present a charity event to benefit the Franklin County Community Meals Program featuring Boston comedy legend Jimmy Tingle\n\nDoors will open at 7.
X-ALT-DESC;FMTTYPE=text/html:<span style="font-size:16px\;">The Shea Presents:&nbsp\;Jimmy Tingle Live! HUMOR FOR HUMANITY.<br />\nA benefit for Franklin County Community Meals Program (FCCMP).<br />\n<br />\nFeaturing -&nbsp\; Comedian Jimmy Tingle in a one-man show.<br />\n<br />\nProgram begins at 8pm.<br />\n<br />\nThe Shea Theater is pleased to present a charity event to benefit the Franklin County Community Meals Program featuring Boston comedy legend Jimmy Tingle<br />\n<span style="color: rgb(0\, 0\, 0)\; font-family: Raleway\, Verdana\, Georgia\, sans-serif\;">Doors will open at 7.&nbsp\;</span></span>
LOCATION:Shea Theater Arts Center
UID:e.2182.19490
SEQUENCE:3
DTSTAMP:20260424T231513Z
URL:https://chamber.franklincc.org/events/details/april-food-s-day-join-us-at-the-shea-theater-for-jimmy-tingle-s-humor-for-humanity-19490
END:VEVENT

END:VCALENDAR
