BEGIN:VCALENDAR
VERSION:2.0
PRODID:-//ChamberMaster//Event Calendar 2.0//EN
METHOD:PUBLISH
X-PUBLISHED-TTL:P3D
REFRESH-INTERVAL:P3D
CALSCALE:GREGORIAN
BEGIN:VEVENT
DTSTART:20230818T140000Z
DTEND:20230818T200000Z
X-MICROSOFT-CDO-ALLDAYEVENT:FALSE
SUMMARY:Apple\, Blueberry & Rhubarb Pie Sale
DESCRIPTION:Robbins Memorial Church August pie sale. Due to the unavailability of blueberries\, there will only be a limited amount of blueberry pies.\n\nPlease call the number provided to reserve a blueberry pie and any special order\, such as unbaked or sugar free by this Wednesday.\n\n413-774-5338
X-ALT-DESC;FMTTYPE=text/html:<span style="color: rgb(5\, 5\, 5)\; font-family: &quot\;Segoe UI Historic&quot\;\, &quot\;Segoe UI&quot\;\, Helvetica\, Arial\, sans-serif\; font-size: 15px\;">Robbins Memorial Church August pie sale. Due to the unavailability of blueberries\, there will only be a limited amount of blueberry pies.<br />\nPlease call the number provided to reserve a blueberry pie and any special order\, such as unbaked or sugar free by this Wednesday.</span><br style="color: rgb(5\, 5\, 5)\; font-family: &quot\;Segoe UI Historic&quot\;\, &quot\;Segoe UI&quot\;\, Helvetica\, Arial\, sans-serif\; font-size: 15px\;" />\n<span style="color: rgb(5\, 5\, 5)\; font-family: &quot\;Segoe UI Historic&quot\;\, &quot\;Segoe UI&quot\;\, Helvetica\, Arial\, sans-serif\; font-size: 15px\;">413-774-5338</span>
LOCATION:Robbins Memorial Church 55 Munson Street\, Greenfield
UID:e.2182.20248
SEQUENCE:3
DTSTAMP:20260425T023953Z
URL:https://chamber.franklincc.org/events/details/apple-blueberry-rhubarb-pie-sale-20248
END:VEVENT

END:VCALENDAR
