BEGIN:VCALENDAR
VERSION:2.0
PRODID:-//ChamberMaster//Event Calendar 2.0//EN
METHOD:PUBLISH
X-PUBLISHED-TTL:P3D
REFRESH-INTERVAL:P3D
CALSCALE:GREGORIAN
BEGIN:VEVENT
DTSTART:20210521T130000Z
DTEND:20210521T210000Z
X-MICROSOFT-CDO-ALLDAYEVENT:FALSE
SUMMARY:Apple & Blueberry & Mixed Berry Pie Sale
DESCRIPTION:All pies made fresh at the church. \n\nApple $12\n\nBlueberry $13\n\nMixed berry  $14\n\nCall 413-773-7624 to reserve pies
X-ALT-DESC;FMTTYPE=text/html:All pies made fresh at the church.&nbsp\;<br />\nApple $12<br />\nBlueberry $13<br />\nMixed berry&nbsp\; $14<br />\nCall 413-773-7624 to reserve pies
LOCATION:Robbins Memorial Church\, 55 Munson Street\, Greenfield
UID:e.2182.18035
SEQUENCE:3
DTSTAMP:20260419T191324Z
URL:https://chamber.franklincc.org/events/details/apple-blueberry-mixed-berry-pie-sale-18035
END:VEVENT

END:VCALENDAR
