BEGIN:VCALENDAR
VERSION:2.0
PRODID:-//ChamberMaster//Event Calendar 2.0//EN
METHOD:PUBLISH
X-PUBLISHED-TTL:P3D
REFRESH-INTERVAL:P3D
CALSCALE:GREGORIAN
BEGIN:VEVENT
DTSTART:20181117T140000Z
DTEND:20181117T200000Z
X-MICROSOFT-CDO-ALLDAYEVENT:FALSE
SUMMARY:Annual Mistletoe Mart & Craft Faire
DESCRIPTION:Handmade creations of area crafters\, along with themed gift baskets to be raffled off. A full lunch menu at the delicious St. James Cafe. Don't forget the popular "Cookie Walk"..
X-ALT-DESC;FMTTYPE=text/html:Handmade creations of area crafters\, along with themed gift baskets to be raffled off. A full lunch menu at the delicious St. James Cafe. Don&rsquo\;t forget the popular &rdquo\;Cookie Walk&rdquo\;..
LOCATION:Episcopal Church of Saints James and Andrew 8 Church St\, Greenfield\, Ma
UID:e.2182.13031
SEQUENCE:3
DTSTAMP:20260424T212407Z
URL:https://chamber.franklincc.org/events/details/annual-mistletoe-mart-craft-faire-13031
END:VEVENT

END:VCALENDAR
