BEGIN:VCALENDAR
VERSION:2.0
PRODID:-//ChamberMaster//Event Calendar 2.0//EN
METHOD:PUBLISH
X-PUBLISHED-TTL:P3D
REFRESH-INTERVAL:P3D
CALSCALE:GREGORIAN
BEGIN:VEVENT
DTSTART:20250523T220000Z
DTEND:20250523T231500Z
X-MICROSOFT-CDO-ALLDAYEVENT:FALSE
SUMMARY:Annual Memorial Day Parade & Ceremony in Sunderland
DESCRIPTION:he parade will form at the veterans memorial on School Street in front of the Town Offices at 6 p.m.. After a brief ceremony\, the parade will head down North Main and South Main streets to Riverside Cemetery\, where the main ceremony will take place. The parade will then march back to the center of town.\n\n\n\nIn the event of inclement weather\, the Memorial Day ceremony will take place in the Sunderland Elementary School gymnasium\, 1 Swampfield Drive\, at 6 p.m.
X-ALT-DESC;FMTTYPE=text/html:he parade will form at the veterans memorial on School Street in front of the Town Offices at 6 p.m.. After a brief ceremony\, the parade will head down North Main and South Main streets to Riverside Cemetery\, where the main ceremony will take place. The parade will then march back to the center of town.<br />\n<br />\nIn the event of inclement weather\, the Memorial Day ceremony will take place in the Sunderland Elementary School gymnasium\, 1 Swampfield Drive\, at 6 p.m.
LOCATION:
UID:e.2182.24748
SEQUENCE:3
DTSTAMP:20260423T204622Z
URL:https://chamber.franklincc.org/events/details/annual-memorial-day-parade-ceremony-in-sunderland-24748
END:VEVENT

END:VCALENDAR
