BEGIN:VCALENDAR
VERSION:2.0
PRODID:-//ChamberMaster//Event Calendar 2.0//EN
METHOD:PUBLISH
X-PUBLISHED-TTL:P3D
REFRESH-INTERVAL:P3D
CALSCALE:GREGORIAN
BEGIN:VEVENT
DTSTART:20250526T140000Z
DTEND:20250526T153000Z
X-MICROSOFT-CDO-ALLDAYEVENT:FALSE
SUMMARY:Annual Greenfield Memorial Day Ceremony
DESCRIPTION:The Upper Pioneer Valley Veterans' Services District will recognize Memorial Day  with a parade followed by a ceremony. The parade will begin at Greenfield Middle School and will end at Veterans Mall. Parade lineup begins at 9:30 a.m.\n\n\n\nThe parade will travel down Federal Street\, stop at the Federal Street Cemetery for the presentation of a remembrance wreath\, turn left onto Maple Street\, turn right onto Franklin Street\, turn right onto Main Street and stop at the Leavitt-Hovey House Mexican-American War statue. Participants will then proceed to the Town Common for a remembrance wreath presentation and conclude at Veterans Mall.\n\n\n\nThe ceremony features Brig. Gen. Mark Kalin as the guest speaker. Kalin served in the 1st Army and the Massachusetts Army National Guard\, including tours in Bosnia and Afghanistan. Greenfield's Chief of Staff Erin Anhalt will also present a proclamation to commemorate Memorial Day. The Upper Pioneer Valley Veterans' Services District welcomes veterans groups and other organizations that are interested in marching in the parade to call 413-772-1571.
X-ALT-DESC;FMTTYPE=text/html:The Upper Pioneer Valley Veterans&rsquo\; Services District will recognize Memorial Day&nbsp\; with a parade followed by a ceremony. The parade will begin at Greenfield Middle School and will end at Veterans Mall. Parade lineup begins at 9:30 a.m.<br />\n<br />\nThe parade will travel down Federal Street\, stop at the Federal Street Cemetery for the presentation of a remembrance wreath\, turn left onto Maple Street\, turn right onto Franklin Street\, turn right onto Main Street and stop at the Leavitt-Hovey House Mexican-American War statue. Participants will then proceed to the Town Common for a remembrance wreath presentation and conclude at Veterans Mall.<br />\n<br />\nThe ceremony features Brig. Gen. Mark Kalin as the guest speaker. Kalin served in the 1st Army and the Massachusetts Army National Guard\, including tours in Bosnia and Afghanistan. Greenfield&rsquo\;s Chief of Staff Erin Anhalt will also present a proclamation to commemorate Memorial Day. The Upper Pioneer Valley Veterans&rsquo\; Services District welcomes veterans groups and other organizations that are interested in marching in the parade to call 413-772-1571.
LOCATION:
UID:e.2182.24741
SEQUENCE:3
DTSTAMP:20260423T211348Z
URL:https://chamber.franklincc.org/events/details/annual-greenfield-memorial-day-ceremony-24741
END:VEVENT

END:VCALENDAR
