BEGIN:VCALENDAR
VERSION:2.0
PRODID:-//ChamberMaster//Event Calendar 2.0//EN
METHOD:PUBLISH
X-PUBLISHED-TTL:P3D
REFRESH-INTERVAL:P3D
CALSCALE:GREGORIAN
BEGIN:VEVENT
DTSTART:20250222T153000Z
DTEND:20250222T210000Z
X-MICROSOFT-CDO-ALLDAYEVENT:FALSE
SUMMARY:Annual Flies\, Pies and Lies Fundraiser Event
DESCRIPTION:Come and enjoy an afternoon of fly-tying\, story-telling\, pizza\, and beer! Learn different tying techniques from some of the best fly tiers in the region. For those new to fly tying\, we'll have at least four spare vises available from the Deerfield Fly Shop for folks who want to try tying out. There will be plenty of experts on hand who are happy to share their techniques and get people started!\n\nThere will also be raffle prizes with all proceeds funding DRWTU so we can continue our cold-water conservation and citizen science projects in the Deerfield watershed.\n\n\n\nSo we have an idea of how many will be in attendance and what the preference is for pizza toppings\, please take a minute to fill out the survey: http://bit.ly/4hNCSA4\n\n\n\nENTRY FEE: $25 - Just show up and pay at the door\, no need to sign up ahead of time.\n\n\n\n\n\nCASH BAR AT THE CLUB! FREE PIZZA!
X-ALT-DESC;FMTTYPE=text/html:<span style="color: rgb(8\, 8\, 9)\; font-family: &quot\;Segoe UI Historic&quot\;\, &quot\;Segoe UI&quot\;\, Helvetica\, Arial\, sans-serif\; font-size: 15px\;">Come and enjoy an afternoon of fly-tying\, story-telling\, pizza\, and beer! Learn different tying techniques from some of the best fly tiers in the region. For those new to fly tying\, we&rsquo\;ll have at least four spare vises available from the Deerfield Fly Shop for folks who want to try tying out. There will be plenty of experts on hand who are happy to share their techniques and get people started!</span><br class="html-br" style="color: rgb(8\, 8\, 9)\; font-family: &quot\;Segoe UI Historic&quot\;\, &quot\;Segoe UI&quot\;\, Helvetica\, Arial\, sans-serif\; font-size: 15px\;" />\n<span style="color: rgb(8\, 8\, 9)\; font-family: &quot\;Segoe UI Historic&quot\;\, &quot\;Segoe UI&quot\;\, Helvetica\, Arial\, sans-serif\; font-size: 15px\;">There will also be raffle prizes with all proceeds funding DRWTU so we can continue our cold-water conservation and citizen science projects in the Deerfield watershed.</span><br class="html-br" style="color: rgb(8\, 8\, 9)\; font-family: &quot\;Segoe UI Historic&quot\;\, &quot\;Segoe UI&quot\;\, Helvetica\, Arial\, sans-serif\; font-size: 15px\;" />\n<br class="html-br" style="color: rgb(8\, 8\, 9)\; font-family: &quot\;Segoe UI Historic&quot\;\, &quot\;Segoe UI&quot\;\, Helvetica\, Arial\, sans-serif\; font-size: 15px\;" />\n<span style="color: rgb(8\, 8\, 9)\; font-family: &quot\;Segoe UI Historic&quot\;\, &quot\;Segoe UI&quot\;\, Helvetica\, Arial\, sans-serif\; font-size: 15px\;">So we have an idea of how many will be in attendance and what the preference is for pizza toppings\, please take a minute to fill out the survey:&nbsp\;</span><span class="html-span xdj266r x11i5rnm xat24cr x1mh8g0r xexx8yu x4uap5 x18d9i69 xkhd6sd x1hl2dhg x16tdsg8 x1vvkbs" style="margin: 0px\; overflow-wrap: break-word\; padding: 0px\; font-family: &quot\;Segoe UI Historic&quot\;\, &quot\;Segoe UI&quot\;\, Helvetica\, Arial\, sans-serif\; color: rgb(8\, 8\, 9)\; font-size: 15px\;"><a attributionsrc="/privacy_sandbox/comet/register/source/?xt=AZWpp7W-A9V9DzNJ57hkLmLBY-Ck7weP-AqRDCnzfiBVtNrVCtDLVlG0e55RRnaa0fOMdrPH4uQsV5mRtdfqlWYcFoPQn_1G-eVDSUKL1s7KTATgvUdcTz2Aooc2NIygxrLChFKKsZFyjsHRt5uHfe0IDoYYBF3FAWHyAWb49cHDNyguSn9vTqe_eDBfo8d2TqU-bdUSfQjgzRk8L_vNZjKWQH7JM0i4giYXqv0r6G9vE7lIA-BvSGj8VfdXCcgwsCxSLpcsIcjjGOhxi_IJEO54-zoB5c5UEAGIyFCej44IEiUN8Lrq1EuS2TIi_yw8CpHa0A1T00oRpJr38HsOjsZEbiYGe7h4PVuAxdI_ictyEJniWxwgh4Jc-ZYaraaJouD9TDJmD3MP2SfbRxF3NpfU7jUrverHUHL0KyjOp46OtReMJEEfZTgskOM3Vcedae8q2Mca2h4J4_xg0DC7KWPVz72tFnv4lyw6GIfV36bHeJELABzUoVvA8Gjg1B4-LOCQInSJ1FocGCn2HBJbww65ptRuY5hYLNFiOzgZlP_OzpUcUy46f745CtYCP70YHjT9O-HbwYpD6Y-OeHckaJb0kWpT-2OHEBM5pbrh1bn2qiPWxZYsjxDeWAd4Gxne0Z8et-zfqodsoANO4r843XhObVKgX0JhcVUgX-CvXgdwrXCtwLH2xpQ1hEvKZsBFkI8-iGUHeYjJEcUI1kh4dFJO7DLslzpaNyT717gKeeprk_7iuAkzppnigV61JoapSZEyZakm4tlPP2S_xlYRoXJi4ElSb_ujG6pz6dqqQefP4d33j9GpnwLamVcSjbgThjb7whLlmQUXNDGlnsHmUt98egk1_U0k4yzVFAiU6vE-zBDJgI7Fw2d5WSklbfhOlGdS4No8Ig0yXsvcvyQyRTLqwAirXoTgIgMAqMbXc_y5SrD2hNOpa96SB-4AcAd9j818_0EAMPwZZJdtPb_lmSe3P0CYOXoeDg-19F0QCqq3ExvSzsp4HK-ZL9YR2q1CbJdYDUhCufHUa3cMSEv8SqDzqOEI42wMxpy4ZeRzuFsveDxaFbslZidCOKu1YnXQZsN4VKwljVrB4KzyzEhqECOD1PvvFn0xcaaJYL96TgDG7vVawsDjTrv9JlybP6CdbfMMmo3l5J5ou7VlP-fn4cpwZ1VloZ5Z7KQdGNEx8i6Sr9A0Vweu18kNbeoQEUMe-HVa3pQ7Yb4dlfwzEB890KWjynj2MxoR1ImvTy8F09MW_VEs_fmsAe8yj-yySp84h2a5Jspls1zcc7lap9loX1yQ0JixPLxGjxxxqxyw0H_thyXCw5aiL47l6Z-SPY0MN3Hf3sFYsjG03Z7p73r1x9j36ipX3OiOYL5Y-qDaXfvXHbAsSVrl2jEiVuqPRCv2weTeTQjU3tvEFOGJCxTFFghXaCJiT9rGaETTxFqWC0nimmlI5sbrngKk9QDk2M9g9dIdmG2Ja08GPnatb_3kbOm41WY1xVqtHTK-GlrNB_lTFLvWgGA1_TNXTePKRDhwc_-GNYvtuuvGaJScIxXyFnOYSQaAtCFcs6PauxKAATXqcXEJl4IkHG_Cy1hnvT_8DHCi4OGqhk5BmMY9RCV4B2iHfWX8svvZsTUg6c2nZ_rI40zDt6WPp34oxmDmIr5qJ5Df6WxzC0CzhosAwaC7FNkhm6gWf5vvHWi4YPkyPKv2D70mkb_lONd9ouMFAzSW-b1hNegPl-V1WDVZH95C0RI5mdj0Ky292P6u6w_JuhMIL0ZtfZBZ6_WVfXNwCT6id-QVW2ZbR3UJdNhJwkUfOAUvDYIzc49S81RkMqgH_J_4vhpM0g8OPKYxwpZyMJ9HqXgb-aP9ySR7ldHKZ79GRtL0S_zwnmT10o0QqhTKrLJ6DXobGlNBOmqjaUd5etv9EJs09RjMZG1u3M2LkiIF9ZRKNF-tkQJX6ujPMowPtnOWEbFW6pTgxa8s7xSEvK1rOuEoMiHNzzrp3RoL4MfSLTsJNwdn5QZOH3vrp4oBofe-E-ZXeAQswcM1A8CO7y1FGBBvgde39hAl3ChhQibLitEeBMZX-E5KiUf2CmZWSlWll-14ibrjXHj4GlQR8hUxSW4Z3qM6e9PvPAwLdvotYFU20RAg1GxamoJOk5x3-nMo6Agxl2m_Y1JlXfJPi9PoroGXjocmafeIAvEn6s5oFvt6ZTFSf6LDgjEVumjDU6hO5k9QwO_Bp2NjKf_78hS6bIKYiWiObzuSMCkyPSeDRpzv2BkoyVbdwfQuN1mrjLqnjanTvdJ2Ki2I1hpCGYYNdU37WA42MEjLMK-qCxmB4hzBW7lDoMmVCRFppRGc2f6gyKahfajv1q2cdMDAfdELEa1kA76cOdd7w-d7f3UZjOlp1YGg2_bFVUsNUmOyRjjo9UKKes3R0Csph0pI2RtbHRaoEkBXPBTO6H5QUsM2ajwHXWrkik9kh0S8eCbRwvm7v4o-ywFn3ly6xHoVna-qkMK3RXZGdc86XOdkpv4Kglip7M7RBnPXCXkyXpc47So9GUW_eK6f21nKa-iZcV5UgpXeo6efhRLtpA8WbER4vqyrG7w9YQYixy_-9TkgDaiqq1pNtig0UQjdF9D34KqlOCXBUEMFIH9uKhFsZ3q4zZTpqg1eVA2xnq9UABW-EpozzJ8WFxrpfz1hPnwu-eSU6Rhzhg_6MxzozblsZ8_4R4qRWNs7O8-SiOANNhAfn_GcvjG0yx_uEhGosdBSz2buXp4URJlcGUmGTEbCtXKOyKMazzJQQg1857RxKkkkPqJ3Gh72OXkoG6ru0UW2yCQ55rQx3evEPbZwZVN8ZIww-hvM" class="x1i10hfl xjbqb8w x1ejq31n xd10rxx x1sy0etr x17r0tee x972fbf xcfux6l x1qhh985 xm0m39n x9f619 x1ypdohk xt0psk2 xe8uvvx xdj266r x11i5rnm xat24cr x1mh8g0r xexx8yu x4uap5 x18d9i69 xkhd6sd x16tdsg8 x1hl2dhg xggy1nq x1a2a7pz x1sur9pj xkrqix3 x1fey0fg x1s688f" href="http://bit.ly/4hNCSA4" rel="nofollow noreferrer" role="link" style="color: var(--blue-link)\; cursor: pointer\; text-decoration-line: none\; list-style: none\; margin: 0px\; text-align: inherit\; border-style: none\; padding: 0px\; box-sizing: border-box\; border-width: 0px\; outline: none\; -webkit-tap-highlight-color: transparent\; font-weight: 600\; touch-action: manipulation\; background-color: transparent\; display: inline\; font-family: inherit\;" tabindex="0" target="_blank">http://bit.ly/4hNCSA4</a></span><br class="html-br" style="color: rgb(8\, 8\, 9)\; font-family: &quot\;Segoe UI Historic&quot\;\, &quot\;Segoe UI&quot\;\, Helvetica\, Arial\, sans-serif\; font-size: 15px\;" />\n<br class="html-br" style="color: rgb(8\, 8\, 9)\; font-family: &quot\;Segoe UI Historic&quot\;\, &quot\;Segoe UI&quot\;\, Helvetica\, Arial\, sans-serif\; font-size: 15px\;" />\n<span style="color: rgb(8\, 8\, 9)\; font-family: &quot\;Segoe UI Historic&quot\;\, &quot\;Segoe UI&quot\;\, Helvetica\, Arial\, sans-serif\; font-size: 15px\;">ENTRY FEE: $25 - Just show up and pay at the door\, no need to sign up ahead of time.</span><br class="html-br" style="color: rgb(8\, 8\, 9)\; font-family: &quot\;Segoe UI Historic&quot\;\, &quot\;Segoe UI&quot\;\, Helvetica\, Arial\, sans-serif\; font-size: 15px\;" />\n<br class="html-br" style="color: rgb(8\, 8\, 9)\; font-family: &quot\;Segoe UI Historic&quot\;\, &quot\;Segoe UI&quot\;\, Helvetica\, Arial\, sans-serif\; font-size: 15px\;" />\n<br class="html-br" style="color: rgb(8\, 8\, 9)\; font-family: &quot\;Segoe UI Historic&quot\;\, &quot\;Segoe UI&quot\;\, Helvetica\, Arial\, sans-serif\; font-size: 15px\;" />\n<span style="color: rgb(8\, 8\, 9)\; font-family: &quot\;Segoe UI Historic&quot\;\, &quot\;Segoe UI&quot\;\, Helvetica\, Arial\, sans-serif\; font-size: 15px\;">CASH BAR AT THE CLUB! FREE PIZZA!</span>
LOCATION:WHERE: Polish American Citizens Club of South Deerfield 46 South Main Street\, South Deerfield MA 01373
UID:e.2182.24258
SEQUENCE:3
DTSTAMP:20260423T224631Z
URL:https://chamber.franklincc.org/events/details/annual-flies-pies-and-lies-fundraiser-event-24258
END:VEVENT

END:VCALENDAR
