BEGIN:VCALENDAR
VERSION:2.0
PRODID:-//ChamberMaster//Event Calendar 2.0//EN
METHOD:PUBLISH
X-PUBLISHED-TTL:P3D
REFRESH-INTERVAL:P3D
CALSCALE:GREGORIAN
BEGIN:VEVENT
DTSTART:20181117T140000Z
DTEND:20181117T190000Z
X-MICROSOFT-CDO-ALLDAYEVENT:FALSE
SUMMARY:Annual Craft Fair & Bake Sale
DESCRIPTION:A wide variety of vendors including jewelry\, candles\, maple products\, needlepoint\, holiday decorations\, ornaments\, baked goods\, raffles and more.
X-ALT-DESC;FMTTYPE=text/html:A wide variety of vendors including jewelry\, candles\, maple products\, needlepoint\, holiday decorations\, ornaments\, baked goods\, raffles and more.
LOCATION:The Arbors at Greenfield 15 Meridian Streeet\, Greenfield
UID:e.2182.13469
SEQUENCE:3
DTSTAMP:20260424T212009Z
URL:https://chamber.franklincc.org/events/details/annual-craft-fair-bake-sale-13469
END:VEVENT

END:VCALENDAR
