BEGIN:VCALENDAR
VERSION:2.0
PRODID:-//ChamberMaster//Event Calendar 2.0//EN
METHOD:PUBLISH
X-PUBLISHED-TTL:P3D
REFRESH-INTERVAL:P3D
CALSCALE:GREGORIAN
BEGIN:VEVENT
DTSTART:20230702T230000Z
DTEND:20230703T010000Z
X-MICROSOFT-CDO-ALLDAYEVENT:FALSE
SUMMARY:An Evening with Lenny Zarcone - Singing the Sinatra Songbook
DESCRIPTION:Our Summer Music Series continues...\n\nJoin us for An Evening with Lenny Zarcone Singing the Sinatra Songbook. Bar opens at 5pm\, show starts at 7pm. No Cover\n\nMartini Specials & Italian Small Plates
X-ALT-DESC;FMTTYPE=text/html:Our Summer Music Series continues...<br />\nJoin us for An Evening with Lenny Zarcone Singing the Sinatra Songbook. Bar opens at 5pm\, show starts at 7pm. No Cover<br />\nMartini Specials &amp\; Italian Small Plates
LOCATION:Shelburne Springs 904 Mohawk Trail\, Shelburne
UID:e.2182.19913
SEQUENCE:3
DTSTAMP:20260425T030607Z
URL:https://chamber.franklincc.org/events/details/an-evening-with-lenny-zarcone-singing-the-sinatra-songbook-19913
END:VEVENT

END:VCALENDAR
