BEGIN:VCALENDAR
VERSION:2.0
PRODID:-//ChamberMaster//Event Calendar 2.0//EN
METHOD:PUBLISH
X-PUBLISHED-TTL:P3D
REFRESH-INTERVAL:P3D
CALSCALE:GREGORIAN
BEGIN:VEVENT
DTSTART:20230401T160000Z
DTEND:20230401T200000Z
X-MICROSOFT-CDO-ALLDAYEVENT:FALSE
SUMMARY:Amherst Survival Center's 15th Annual Empty Bowls
DESCRIPTION:Empty Bowls is the Amherst Survival Center's signature fundraiser\, and it's back\, fully in person\, this year! Empty Bowls will be at the Amherst Survival Center\, located at 138 Sunderland Road in Amherst. Join us anytime from 12:00-4:00 p.m. on Saturday April 1st for a delightful meal and table service by fabulous local celebrities! You'll find delicious soup made by local restaurants and our kitchen (vegetarian\, vegan\, and gluten-free options)\, warm bread\, salad\, and a light dessert. Come select a beautiful bowl handcrafted by local potters and enjoy a hearty seasonal meal. The keepsake bowl is yours to take home as a reminder of the bowls that go empty in Western Massachusetts\, as well as the inspiring work you are supporting\, ending hunger in our community. Event proceeds support the Center's food and nutrition programs which serve almost 7\,000 food-insecure residents of Hampshire and Franklin Counties.
X-ALT-DESC;FMTTYPE=text/html:Empty Bowls is the Amherst Survival Center&rsquo\;s signature fundraiser\, and it&#39\;s back\, fully in person\, this year! Empty Bowls will be at the Amherst Survival Center\, located at 138 Sunderland Road in Amherst. Join us anytime from 12:00-4:00 p.m. on Saturday April 1st for a delightful meal and table service by fabulous local celebrities! You&rsquo\;ll find delicious soup made by local restaurants and our kitchen (vegetarian\, vegan\, and gluten-free options)\, warm bread\, salad\, and a light dessert. Come select a beautiful bowl handcrafted by local potters and enjoy a hearty seasonal meal. The keepsake bowl is yours to take home as a reminder of the bowls that go empty in Western Massachusetts\, as well as the inspiring work you are supporting\, ending hunger in our community. Event proceeds support the Center&#39\;s food and nutrition programs which serve almost 7\,000 food-insecure residents of Hampshire and Franklin Counties.
LOCATION:Amherst Survival Center 138 Sunderland Road\, North Amherst\, MA\, 01059
UID:e.2182.19478
SEQUENCE:3
DTSTAMP:20260424T230741Z
URL:https://chamber.franklincc.org/events/details/amherst-survival-center-s-15th-annual-empty-bowls-19478
END:VEVENT

END:VCALENDAR
