BEGIN:VCALENDAR
VERSION:2.0
PRODID:-//ChamberMaster//Event Calendar 2.0//EN
METHOD:PUBLISH
X-PUBLISHED-TTL:P3D
REFRESH-INTERVAL:P3D
CALSCALE:GREGORIAN
BEGIN:VEVENT
DTSTART:20251004T130000Z
DTEND:20251004T200000Z
X-MICROSOFT-CDO-ALLDAYEVENT:FALSE
SUMMARY:Ad Club Presents: The Creative Unconference
DESCRIPTION:Join the Ad Club of Western Mass for the Creative Unconference at Holyoke Community College! This one-of-a-kind event is designed to inspire\, energize\, and connect the vibrant creative community of Western Massachusetts and beyond. Unlike traditional conferences\, the Creative Unconference puts attendees in the driver's seat. You'll help shape the agenda\, choose the topics\, and even lead the sessions. It's a day built on collaboration\, peer learning\, and open dialogue not passive listening. Whether you're a student just getting started or a seasoned pro\, this unique experience is crafted to educate\, elevate\, and spark new ideas. When: Saturday\, October 4\, 2025 Time: 9:00 AM   4:00 PM Where: Holyoke Community College\, Holyoke\, MA Tickets and more info at https://www.adclubwm.org/creative-unconference/ To become a sponsor\, email info@adclubwm.org
X-ALT-DESC;FMTTYPE=text/html:Join the Ad Club of Western Mass for the Creative Unconference at Holyoke Community College! This one-of-a-kind event is designed to inspire\, energize\, and connect the vibrant creative community of Western Massachusetts and beyond. Unlike traditional conferences\, the Creative Unconference puts attendees in the driver&rsquo\;s seat. You&rsquo\;ll help shape the agenda\, choose the topics\, and even lead the sessions. It&rsquo\;s a day built on collaboration\, peer learning\, and open dialogue&mdash\;not passive listening. Whether you&#39\;re a student just getting started or a seasoned pro\, this unique experience is crafted to educate\, elevate\, and spark new ideas. When: Saturday\, October 4\, 2025 Time: 9:00 AM &ndash\; 4:00 PM Where: Holyoke Community College\, Holyoke\, MA Tickets and more info at https://www.adclubwm.org/creative-unconference/ To become a sponsor\, email info@adclubwm.org
LOCATION:Holyoke Community College 303 Homestead Ave\, Holyoke\, MA 01040
UID:e.2182.25075
SEQUENCE:3
DTSTAMP:20260420T112753Z
URL:https://chamber.franklincc.org/events/details/ad-club-presents-the-creative-unconference-25075
END:VEVENT

END:VCALENDAR
