BEGIN:VCALENDAR
VERSION:2.0
PRODID:-//ChamberMaster//Event Calendar 2.0//EN
METHOD:PUBLISH
X-PUBLISHED-TTL:P3D
REFRESH-INTERVAL:P3D
CALSCALE:GREGORIAN
BEGIN:VEVENT
DTSTART:20250802T170000Z
DTEND:20250802T190000Z
X-MICROSOFT-CDO-ALLDAYEVENT:FALSE
SUMMARY:ACT Youth Summer Theater presents: The Absolute True Story of King Arthur
DESCRIPTION:ACT Youth from far and wide come together to present a hilarious show about how Arthur reached the throne. Merlin\, his sisters\, palace workers\, and even the Saxons contribute to belly laughs throughout this show. Hope you can make it!
X-ALT-DESC;FMTTYPE=text/html:ACT Youth from far and wide come together to present a hilarious show about how Arthur reached the throne. Merlin\, his sisters\, palace workers\, and even the Saxons contribute to belly laughs throughout this show. Hope you can make it!
LOCATION:Deerfield Elementary School 21 Pleasant St\, South Deerfield\, MA 01373
UID:e.2182.25067
SEQUENCE:3
DTSTAMP:20260424T014114Z
URL:https://chamber.franklincc.org/events/details/act-youth-summer-theater-presents-the-absolute-true-story-of-king-arthur-25067
END:VEVENT

END:VCALENDAR
