BEGIN:VCALENDAR
VERSION:2.0
PRODID:-//ChamberMaster//Event Calendar 2.0//EN
METHOD:PUBLISH
X-PUBLISHED-TTL:P3D
REFRESH-INTERVAL:P3D
CALSCALE:GREGORIAN
BEGIN:VEVENT
DTSTART:20250516T180000Z
DTEND:20250516T210000Z
X-MICROSOFT-CDO-ALLDAYEVENT:FALSE
SUMMARY:A Taste of Honey Food Tour
DESCRIPTION:Join us on May 16 2-5pm  for A Taste of Honey Food Tour in anticipation of Greenfield's annual Bee Fest.  The tour will highlight local honey and honey producers\, and focus on the importance of bees to our regional agriculture.  We'll stroll the streets of Greenfield tasting a variety of dishes and drinks that feature honey\, enjoy a guided local honey tasting and dive into the history and role of bees and honey from ancient times to local hero Lorenzo Langstroth.  Tickets at Pioneervalleyfoodtours.com
X-ALT-DESC;FMTTYPE=text/html:Join us on<strong>&nbsp\;May 16</strong>&nbsp\;<strong>2-5pm</strong>&nbsp\; for&nbsp\;<strong>A Taste of Honey Food Tour</strong>&nbsp\;in anticipation of Greenfield&#39\;s annual&nbsp\;<a href="https://pioneervalleyfoodtours.us20.list-manage.com/track/click?u=9057fbec1001072ec6068eae5&amp\;id=515fa1dc9d&amp\;e=a1a5b69a27" target="_blank" title="https://pioneervalleyfoodtours.us20.list-manage.com/track/click?u=9057fbec1001072ec6068eae5&amp\;id=515fa1dc9d&amp\;e=a1a5b69a27"><span style="color:#007c89">Bee Fest</span></a>.&nbsp\; The tour will highlight local honey and honey producers\, and focus on the importance of bees to our regional agriculture.&nbsp\; We&#39\;ll stroll the streets of Greenfield tasting a variety of dishes and drinks that feature honey\, enjoy a guided local honey tasting and dive into the history and role of bees and honey from ancient times to local hero Lorenzo Langstroth.&nbsp\; Tickets at&nbsp\;<a href="http://Pioneervalleyfoodtours.com" target="_blank"><strong>Pioneervalleyfoodtours.com</strong></a>
LOCATION:16 Court Square\, Greenfield\, MA
UID:e.2182.24447
SEQUENCE:3
DTSTAMP:20260423T202954Z
URL:https://chamber.franklincc.org/events/details/a-taste-of-honey-food-tour-05-16-2025-24447
END:VEVENT

END:VCALENDAR
