BEGIN:VCALENDAR
VERSION:2.0
PRODID:-//ChamberMaster//Event Calendar 2.0//EN
METHOD:PUBLISH
X-PUBLISHED-TTL:P3D
REFRESH-INTERVAL:P3D
CALSCALE:GREGORIAN
BEGIN:VEVENT
DTSTART:20200314T223000Z
DTEND:20200315T030000Z
X-MICROSOFT-CDO-ALLDAYEVENT:FALSE
SUMMARY:A Night of Saint Patrick's Feasting and Merrymaking
DESCRIPTION:Crowd the Plough Cliff's Smoking Backyard BBQ Raffle prizes by Kiwanis of Northfield Ice Cold Green Cider and Wines must be 21+
X-ALT-DESC;FMTTYPE=text/html:Crowd the Plough Cliff&#39\;s Smoking Backyard BBQ Raffle prizes by Kiwanis of Northfield Ice Cold Green Cider and Wines must be 21+
LOCATION:Cameron's Winery 105 Main Street Northfield Ma 01360 413 225-3247
UID:e.2182.17222
SEQUENCE:3
DTSTAMP:20260423T193710Z
URL:https://chamber.franklincc.org/events/details/a-night-of-saint-patrick-s-feasting-and-merrymaking-17222
END:VEVENT

END:VCALENDAR
