BEGIN:VCALENDAR
VERSION:2.0
PRODID:-//ChamberMaster//Event Calendar 2.0//EN
METHOD:PUBLISH
X-PUBLISHED-TTL:P3D
REFRESH-INTERVAL:P3D
CALSCALE:GREGORIAN
BEGIN:VEVENT
DTSTART:20250815T220000Z
DTEND:20250815T233000Z
X-MICROSOFT-CDO-ALLDAYEVENT:FALSE
SUMMARY:A Friday on the Common - Free Candy Bar Bingo
DESCRIPTION:Free bingo for everyone! Arrive downtown in time to grab some food from one of our local restaurants and show us your receipt for an EXTRA free bingo play! Then\, shoot over to Beacon Field for the Recreation Departments free movie in the Park at 8:15 (A Minecraft movie).
X-ALT-DESC;FMTTYPE=text/html:Free bingo for everyone! Arrive downtown in time to grab some food from one of our local restaurants and show us your receipt for an EXTRA free bingo play! Then\, shoot over to Beacon Field for the Recreation Departments free movie in the Park at 8:15 (A Minecraft movie).<br />\n
LOCATION:Greenfield Town Common Court Square\, Greenfield
UID:e.2182.25088
SEQUENCE:3
DTSTAMP:20260424T031425Z
URL:https://chamber.franklincc.org/events/details/a-friday-on-the-common-free-candy-bar-bingo-25088
END:VEVENT

END:VCALENDAR
