BEGIN:VCALENDAR
VERSION:2.0
PRODID:-//ChamberMaster//Event Calendar 2.0//EN
METHOD:PUBLISH
X-PUBLISHED-TTL:P3D
REFRESH-INTERVAL:P3D
CALSCALE:GREGORIAN
BEGIN:VEVENT
DTSTART:20230211T230000Z
DTEND:20230212T010000Z
X-MICROSOFT-CDO-ALLDAYEVENT:FALSE
SUMMARY:8th Annual Franklin County Father-Daughter Dance
DESCRIPTION:Presented by the Greenfield Moose Lodge 997.\n\n\n\nAll daughters (all ages) dance free. \n\n\n\nMusic provided by DJ BobbyC.\n\n\n\nFree snacks and soda bar. Fashion shoot. Make and take Valentines.
X-ALT-DESC;FMTTYPE=text/html:Presented by the Greenfield Moose Lodge 997.<br />\n<br />\nAll daughters (all ages) dance free.&nbsp\;<br />\n<br />\nMusic provided by DJ BobbyC.<br />\n<br />\nFree snacks and soda bar. Fashion shoot. Make and take Valentines.
LOCATION:Greenfield Moose Lodge 20 School Street\, Greenfield
UID:e.2182.19424
SEQUENCE:3
DTSTAMP:20260424T202629Z
URL:https://chamber.franklincc.org/events/details/8th-annual-franklin-county-father-daughter-dance-19424
END:VEVENT

END:VCALENDAR
