BEGIN:VCALENDAR
VERSION:2.0
PRODID:-//ChamberMaster//Event Calendar 2.0//EN
METHOD:PUBLISH
X-PUBLISHED-TTL:P3D
REFRESH-INTERVAL:P3D
CALSCALE:GREGORIAN
BEGIN:VEVENT
DTSTART:20190505T190000Z
DTEND:20190505T203000Z
X-MICROSOFT-CDO-ALLDAYEVENT:FALSE
SUMMARY:6th Annual Spring Concert
DESCRIPTION:Featuring the Franklin COunty Community CHorus. Director - Paul Calcari\; Accompanist - Timothy Rogers.
X-ALT-DESC;FMTTYPE=text/html:Featuring the Franklin COunty Community CHorus. Director - Paul Calcari\; Accompanist - Timothy Rogers.
LOCATION:Greenfield High School Auditorium 21 Barr Avenue\, Greenfield
UID:e.2182.14918
SEQUENCE:3
DTSTAMP:20260424T132004Z
URL:https://chamber.franklincc.org/events/details/6th-annual-spring-concert-14918
END:VEVENT

END:VCALENDAR
