BEGIN:VCALENDAR
VERSION:2.0
PRODID:-//ChamberMaster//Event Calendar 2.0//EN
METHOD:PUBLISH
X-PUBLISHED-TTL:P3D
REFRESH-INTERVAL:P3D
CALSCALE:GREGORIAN
BEGIN:VEVENT
DTSTART:20250817T160000Z
DTEND:20250817T200000Z
X-MICROSOFT-CDO-ALLDAYEVENT:FALSE
SUMMARY:6ht Annual Veterans Car Show
DESCRIPTION:There will be food and raffles. Attendees can see a "Back to the Future" DeLorean and a 1982 Buick Grand National. LJ Davis of DJ Serviec will act as emcee for the show.\n\n\n\nRain date - August 24th
X-ALT-DESC;FMTTYPE=text/html:There will be food and raffles. Attendees can see a &quot\;Back to the Future&quot\; DeLorean and a 1982 Buick Grand National. LJ Davis of DJ Serviec will act as emcee for the show.<br />\n<br />\nRain date - August 24th
LOCATION:Montague Elks Lodge 1 Elks Avenyue\, Turners Falls
UID:e.2182.25114
SEQUENCE:3
DTSTAMP:20260424T013522Z
URL:https://chamber.franklincc.org/events/details/6ht-annual-veterans-car-show-25114
END:VEVENT

END:VCALENDAR
