BEGIN:VCALENDAR
VERSION:2.0
PRODID:-//ChamberMaster//Event Calendar 2.0//EN
METHOD:PUBLISH
X-PUBLISHED-TTL:P3D
REFRESH-INTERVAL:P3D
CALSCALE:GREGORIAN
BEGIN:VEVENT
DTSTART:20200304T223000Z
DTEND:20200305T000000Z
X-MICROSOFT-CDO-ALLDAYEVENT:FALSE
SUMMARY:501 C U There Fair
DESCRIPTION:Franklin County Young Professionals will be holding a meet and greet event for the community to introduce them  to our local non-profits.  The Franklin County Young Professionals want to shine a spotlight on the work that non-profits do every day and show the community the impact they can make by volunteering to help champion your causes.  This is also an opportunity to learn about some of  the resources available to them in their community.  The event is FREE\, free light appetizers and a cash bar will be available.  There will be a door prize given to one community attendee!
X-ALT-DESC;FMTTYPE=text/html:<p>Franklin County Young Professionals will be holding a meet and greet event for the community to introduce them&nbsp\; to our local non-profits.&nbsp\; The Franklin County Young Professionals want to shine a spotlight on the work that non-profits do every day and show the community the impact they can make by volunteering to help champion your causes.&nbsp\; This is also an opportunity to learn about some of&nbsp\; the resources available to them in their community.&nbsp\; The event is FREE\, free light appetizers and a cash bar will be available.&nbsp\; There will be a door prize given to one community attendee!&nbsp\;</p>\n\n<p>&nbsp\;</p>\n
LOCATION:Greenfield Community College Cohn Dining Commons 1 College Drive Greenfield MA 01301
UID:e.2182.16044
SEQUENCE:3
DTSTAMP:20260423T113800Z
URL:https://chamber.franklincc.org/events/details/501-c-u-there-fair-16044
END:VEVENT

END:VCALENDAR
