BEGIN:VCALENDAR
VERSION:2.0
PRODID:-//ChamberMaster//Event Calendar 2.0//EN
METHOD:PUBLISH
X-PUBLISHED-TTL:P3D
REFRESH-INTERVAL:P3D
CALSCALE:GREGORIAN
BEGIN:VEVENT
DTSTART:20250712T120000Z
DTEND:20250712T200000Z
X-MICROSOFT-CDO-ALLDAYEVENT:FALSE
SUMMARY:4th Annual Stars & Stripes Car Show & Swap Meet
DESCRIPTION:Presented by the Charlemont Lion's Club.\n\nCome display your car\, check out some awesome rides\, sell your items\, or smoke your tires in the burnout pit. Grab some food\, a local beer\, listen to the band and enjoy your day.\n\nGates open at 7 am\, judging starts at 11 am\, awards at 2 pm.\n\nContact Matt to register your ride (413) 522-2426 mattsauto68@verizon.net
X-ALT-DESC;FMTTYPE=text/html:Presented by the Charlemont Lion&#39\;s Club.<br />\nCome display your car\, check out some awesome rides\, sell your items\, or smoke your tires in the burnout pit. Grab some food\, a local beer\, listen to the band and enjoy your day.<br />\nGates open at 7 am\, judging starts at 11 am\, awards at 2 pm.<br />\nContact Matt to register your ride (413) 522-2426 mattsauto68@verizon.net
LOCATION:Charlemont Fairgrounds'60 Park Street (off Route 8A North) Charlemont
UID:e.2182.24858
SEQUENCE:3
DTSTAMP:20260424T001527Z
URL:https://chamber.franklincc.org/events/details/4th-annual-stars-stripes-car-show-swap-meet-24858
END:VEVENT

END:VCALENDAR
