BEGIN:VCALENDAR
VERSION:2.0
PRODID:-//ChamberMaster//Event Calendar 2.0//EN
METHOD:PUBLISH
X-PUBLISHED-TTL:P3D
REFRESH-INTERVAL:P3D
CALSCALE:GREGORIAN
BEGIN:VEVENT
DTSTART:20240305T213000Z
DTEND:20240305T233000Z
X-MICROSOFT-CDO-ALLDAYEVENT:FALSE
SUMMARY:40th Anniversary of 16 Candles
DESCRIPTION:Celebrate the 40th anniversary of John Hughes iconic 16 Candles starring Molly Ringwald\, Anthony Michael Hall\, Justin Henry\, John Cusack\, Joan Cusack and many more. All sponsored by Aliber's Bridal Shop.\n\n \n\nSamantha's life is going downhill fast. The 16-year-old has a crush on the most popular boy in school\, and the geekiest boy in school has a crush on her. Her sister is getting married\, and with all the excitement the rest of her family forgets her birthday. Add to all this two sets of horrendously embarrassing grandparents\, a foreign-exchange student\, and behold the makings of a hilarious journey into young-womanhood.\n\n \n\nDespite criticism and it maintains an 85% score on Rotten Tomatoes. In 1984 both Ringwald and Hall best Young Actress and Actor in a Motion Picture\, respectively. With a soundtrack that features the likes of AC/DC\, Kajagoogoo\, Oingo Boingo\, Stevie Ray Vaugh\, Wham!\, Billy Idol and David Bowie you will be instantly transported back to the 1980's\n\n \n\nAll shows are ONLY $5.00 and FREE tickets are available through Aliber's Bridal Shop. Shows at 6:30pm Fri-Sun and 4:30 Mon. - Thur.
X-ALT-DESC;FMTTYPE=text/html:<div class="xdj266r x11i5rnm xat24cr x1mh8g0r x1vvkbs">Celebrate the 40th anniversary of John Hughes iconic 16 Candles starring Molly Ringwald\, Anthony Michael Hall\, Justin Henry\, John Cusack\, Joan Cusack and many more. All sponsored by Aliber&#39\;s Bridal Shop.<br />\n&nbsp\;</div>\n\n<div class="x11i5rnm xat24cr x1mh8g0r x1vvkbs xtlvy1s">Samantha&#39\;s life is going downhill fast. The 16-year-old has a crush on the most popular boy in school\, and the geekiest boy in school has a crush on her. Her sister is getting married\, and with all the excitement the rest of her family forgets her birthday. Add to all this two sets of horrendously embarrassing grandparents\, a foreign-exchange student\, and behold the makings of a hilarious journey into young-womanhood.<br />\n&nbsp\;</div>\n\n<div class="x11i5rnm xat24cr x1mh8g0r x1vvkbs xtlvy1s">Despite criticism and it maintains an 85% score on Rotten Tomatoes. In 1984 both Ringwald and Hall best Young Actress and Actor in a Motion Picture\, respectively. With a soundtrack that features the likes of AC/DC\, Kajagoogoo\, Oingo Boingo\, Stevie Ray Vaugh\, Wham!\, Billy Idol and David Bowie you will be instantly transported back to the 1980&#39\;s<br />\n&nbsp\;</div>\n\n<div class="x11i5rnm xat24cr x1mh8g0r x1vvkbs xtlvy1s">All shows are ONLY $5.00 and FREE tickets are available through Aliber&#39\;s Bridal Shop. Shows at 6:30pm Fri-Sun and 4:30 Mon. - Thur.</div>\n
LOCATION:Greenfield Garden Cinemas 361 Main Street\, Greenfield\, MA
UID:e.2182.22787
SEQUENCE:3
DTSTAMP:20260424T171103Z
URL:https://chamber.franklincc.org/events/details/40th-anniversary-of-16-candles-03-05-2024-22787
END:VEVENT

END:VCALENDAR
