BEGIN:VCALENDAR
VERSION:2.0
PRODID:-//ChamberMaster//Event Calendar 2.0//EN
METHOD:PUBLISH
X-PUBLISHED-TTL:P3D
REFRESH-INTERVAL:P3D
CALSCALE:GREGORIAN
BEGIN:VEVENT
DTSTART:20230427T220000Z
DTEND:20230427T233000Z
X-MICROSOFT-CDO-ALLDAYEVENT:FALSE
SUMMARY:350th Anniversary Celebration: Abijah Prince of Northfield
DESCRIPTION:Arthur and professor Gretchen Gerzina will talk about "Abijah Prince of Northfield\; from Enslaved to Entrepreneur\," based on her book Mr. and Mrs. Prince: How an Extraordinary Eighteenth-Century Family Moved Out of Slavery and Into Legend. \n\n\n\nThis is part of Northfield 350th Anniversary Celebration.
X-ALT-DESC;FMTTYPE=text/html:Arthur and professor Gretchen Gerzina will talk about &quot\;Abijah Prince of Northfield\; from Enslaved to Entrepreneur\,&quot\; based on her book Mr. and Mrs. Prince: How an Extraordinary Eighteenth-Century Family Moved Out of Slavery and Into Legend.&nbsp\;<br />\n<br />\nThis is part of <strong><a href="https://northfield350.org/p/20/Schedule">Northfield 350th Anniversary Celebration</a></strong>.
LOCATION:Northfield Trinitarian Church
UID:e.2182.19557
SEQUENCE:3
DTSTAMP:20260425T002515Z
URL:https://chamber.franklincc.org/events/details/350th-anniversary-celebration-abijah-prince-of-northfield-19557
END:VEVENT

END:VCALENDAR
