BEGIN:VCALENDAR
VERSION:2.0
PRODID:-//ChamberMaster//Event Calendar 2.0//EN
METHOD:PUBLISH
X-PUBLISHED-TTL:P3D
REFRESH-INTERVAL:P3D
CALSCALE:GREGORIAN
BEGIN:VEVENT
DTSTART:20250829T160000Z
DTEND:20250829T210000Z
X-MICROSOFT-CDO-ALLDAYEVENT:FALSE
SUMMARY:34th Annual Old Deerfield Painting Group Exhibition
DESCRIPTION:Weather permitting\, our members set up their easels in the countryside\, villages ad hill towns of the area.\n\n\n\nThis year's theme - "Through and Through." What engages you and invites you into a painting? Join us as we explore ways in which a two dimensional work can welcome us into another spatial\, temporal reality.\n\n\n\nExhibit on display at the Deerfield Community Center.\n\n\n\nOpening reception Sunday\, August 24th from 2 0 4:30 p.m.
X-ALT-DESC;FMTTYPE=text/html:Weather permitting\, our members set up their easels in the countryside\, villages ad hill towns of the area.<br />\n<br />\nThis year&#39\;s theme - &quot\;Through and Through.&quot\; What engages you and invites you into a painting? Join us as we explore ways in which a two dimensional work can welcome us into another spatial\, temporal reality.<br />\n<br />\nExhibit on display at the Deerfield Community Center.<br />\n<br />\nOpening reception Sunday\, August 24th from 2 0 4:30 p.m.<br />\n&nbsp\;
LOCATION:Deerfield Community Center Memorial Street\, Deerfield
UID:e.2182.25083
SEQUENCE:3
DTSTAMP:20260424T013833Z
URL:https://chamber.franklincc.org/events/details/34th-annual-old-deerfield-painting-group-exhibition-08-29-2025-25083
END:VEVENT

END:VCALENDAR
