BEGIN:VCALENDAR
VERSION:2.0
PRODID:-//ChamberMaster//Event Calendar 2.0//EN
METHOD:PUBLISH
X-PUBLISHED-TTL:P3D
REFRESH-INTERVAL:P3D
CALSCALE:GREGORIAN
BEGIN:VEVENT
DTSTART:20240823T160000Z
DTEND:20240823T210000Z
X-MICROSOFT-CDO-ALLDAYEVENT:FALSE
SUMMARY:33rd Exhibition of Paintings
DESCRIPTION:Presented by the Old Deerfield Painting Group.\n\n\n\nFeatured on the Stage:  Our Downtowns. Our usual stage exhibit and our individual displays are replete with bucolic images: panoramic landscapes\, rustic barns\, field and stream vignettes\, or still life paintings of favorite objects and flowers.\n\n\n\nThis year's challenge involved painting a "Downtown" scene. Artist were asked to represent their personal civic center. \n\n\n\nWeather permitting\, our members set up their easels in the countryside\, villages\, and hill towns of the area. Otherwise \, you'll find is here\, in the Deerfield Community Center.\n\n\n\nReception:  SUnday\, August 18th - 2:00-4:30 p.m.
X-ALT-DESC;FMTTYPE=text/html:Presented by the Old Deerfield Painting Group.<br />\n<br />\nFeatured on the Stage:&nbsp\; Our Downtowns. Our usual stage exhibit and our individual displays are replete with bucolic images: panoramic landscapes\, rustic barns\, field and stream vignettes\, or still life paintings of favorite objects and flowers.<br />\n<br />\nThis year&#39\;s challenge involved painting a &quot\;Downtown&quot\; scene. Artist were asked to represent their personal civic center.&nbsp\;<br />\n<br />\nWeather permitting\, our members set up their easels in the countryside\, villages\, and hill towns of the area. Otherwise \, you&#39\;ll find is here\, in the Deerfield Community Center.<br />\n<br />\nReception:&nbsp\; SUnday\, August 18th - 2:00-4:30 p.m.
LOCATION:Deerfield Community Center Memorial Street\, Old Deerfield
UID:e.2182.23601
SEQUENCE:3
DTSTAMP:20260424T111132Z
URL:https://chamber.franklincc.org/events/details/33rd-exhibition-of-paintings-08-23-2024-23601
END:VEVENT

END:VCALENDAR
