BEGIN:VCALENDAR
VERSION:2.0
PRODID:-//ChamberMaster//Event Calendar 2.0//EN
METHOD:PUBLISH
X-PUBLISHED-TTL:P3D
REFRESH-INTERVAL:P3D
CALSCALE:GREGORIAN
BEGIN:VEVENT
DTSTART:20241214T150000Z
DTEND:20241214T210000Z
X-MICROSOFT-CDO-ALLDAYEVENT:FALSE
SUMMARY:2nd Annual Christmas Gift Market
DESCRIPTION:Variety of vendors.\n\n\n\nComplimentary coffee and refreshments.
X-ALT-DESC;FMTTYPE=text/html:Variety of vendors.<br />\n<br />\nComplimentary coffee and refreshments.
LOCATION:The Inn at Crumpin-Fox 71 Northfield Road\, Bernardston
UID:e.2182.23972
SEQUENCE:3
DTSTAMP:20260424T013619Z
URL:https://chamber.franklincc.org/events/details/2nd-annual-christmas-gift-market-23972
END:VEVENT

END:VCALENDAR
